Workbook
Name _Toc476813132: Questionnaire!$FM$1
Name dd: [1]Scoring!$D$75:$D$84
Name Q2.1: Scoring!$D$5:$D$6
Name Q2.10: Scoring!$D$57:$D$58
Name Q2.11: Scoring!#REF!
Name Q2.12: Scoring!$D$63:$D$64
Name Q2.13: Scoring!$D$65:$D$66
Name Q2.14: Scoring!$D$68:$D$71
Name Q2.15.1: Scoring!$D$72:$D$74
Name Q2.15.2: Scoring!$D$75:$D$78
Name Q2.17: Scoring!$D$85:$D$87
Name Q2.18: Scoring!#REF!
Name Q2.19: Scoring!$D$100:$D$102
Name Q2.2.1: Scoring!$D$7:$D$8
Name Q2.2.2: Scoring!$D$9:$D$10
Name Q2.2.3: Scoring!$D$12:$D$13
Name Q2.3.1: Scoring!$D$14:$D$15
Name Q2.3.2: Scoring!$D$16:$D$17
Name Q2.4: Scoring!$D$19:$D$21
Name Q2.5: Scoring!$D$28:$D$33
Name Q2.6.1: Scoring!$D$35:$D$37
Name Q2.6.2: Scoring!$D$38:$D$39
Name Q2.7: Scoring!$D$40:$D$42
Name Q2.8: Scoring!$D$46:$D$47
Name Q3.1: Scoring!$D$108:$D$117
Name Q3.12: Scoring!$D$151:$D$152
Name Q3.13: Scoring!$D$153:$D$154
Name Q3.14: Scoring!$D$157:$D$158
Name Q3.15: Scoring!$D$166:$D$167
Name Q3.2: Scoring!$D$118:$D$119
Name Q3.3.1: Scoring!$D$120:$D$124
Name Q4.1: Scoring!$D$171:$D$172
Name Q4.2: Scoring!$D$173:$D$176
Name Q4.3: Scoring!$D$177:$D$180
Name Q4.4: Scoring!$D$183:$D$186
Name Q4.5: Scoring!$D$187:$D$190
Name Q4.6: Scoring!$D$193:$D$195
Name Q4.7: Scoring!$D$196:$D$198
Name Q4.8: Scoring!$D$199:$D$201
Name Q4.9: Scoring!$D$202:$D$205
Name Q7.1: Scoring!$D$219:$D$220
Name Q7.10: Scoring!$D$253:$D$254
Name Q7.11: Scoring!$D$257:$D$258
Name Q7.12: Scoring!$D$259:$D$260
Name Q7.13: Scoring!$D$261:$D$262
Name Q7.2: Scoring!$D$221:$D$222
Name Q7.3: Scoring!$D$223:$D$224
Name Q7.4: Scoring!$D$225:$D$226
Name Q7.5: Scoring!$D$237:$D$238
Name Q7.6: Scoring!$D$240:$D$246
Name Q7.7: Scoring!$D$247:$D$248
Name Q7.8: Scoring!$D$249:$D$250
Name Q7.9: Scoring!$D$251:$D$252

Sheet Scoring
C1: # indicators | D1: Answer | E1: Scoring | G1: Additional scoring 2016 | J1: Additional scoring 2017
B2: Overall scoring | C2: =SUM(C3,C107,C169,C207,C211,C217,C264,C280) -> 89 | E2: =SUM(E3,E107,E169,E207,E211,E217,E264,E280) -> 1250 | G2: =SUM(G3,G107,G169,G207,G211,G217,G264,G280) -> 90 | K2: =SUM(K3,K107,K169,K207,K211,K217,K264,K280) -> 160
B3: 2.2 Presence of (Open) Data policy | C3: =SUM(C4,C62,C84) -> 28 | E3: =E4+E62+E84 -> 500 | G3: =SUM(G4,G62,G84) -> 30 | K3: =SUM(K4,K62,K84) -> 90
B4: 2.2.1 (Open) Data Policy | C4: 17 | E4: =SUM(E5,E7,E9,E12,E14,E16,E19,E22,E28,E35,E38,E40,E43,E46,E50,E52,E57) -> 300 | G4: =SUM(G5,G7,G9,G12,G14,G16,G19,G22,G28,G35,G38,G40,G43,G46,G50,G52,G57-E50,G59) -> 30 | K4: =SUM(K5,K7,K9,K12,K14,K16,K19,K23,K28-E28,K35,K38,K40,K43,K46,K50,K52,K57-G59-E19-E9) -> 70
A5: 1 | B5: Q2.1 Is there an (Open) Data policy in your country? | D5: Yes | E5: 20
D6: No | E6: 0
A7: 2 | B7: Q2.2.1 Are there policies supporting the re-use of Public Sector Information (within public administration, by the private sector)? | D7: Yes | E7: 20
D8: No | E8: 0
A9: 3 | B9: Q2.2.2 Is your Open Data Policy the same as your Public Sector Information Policy? | D9: Yes | E9: 10 | J9: More ambitious | K9: 10
D10: No | E10: 0 | J10: Same | K10: 5
J11: No policy | K11: 0
A12: 4 | B12: Q2.2.3 Was the (Open) Data policy in your country updated since April 2016? | D12: Yes | G12: 10
D13: No | G13: 0
A14: 5 | B14: Q2.3.1 Is there a national (Open) Data portal in your country? | D14: Yes | E14: 30
D15: No | E15: 0
A16: 6 | B16: Q2.3.2 Are there also regional, local portals? | D16: Yes | E16: 20
D17: No | E17: 0
D18: N/A | E18: 20
A19: 7 | B19: Q2.4 Can all the different Public Sector Data Holders (ministries, departments, etc) upload data themselves to the portal? | D19: Yes | E19: 20 | J19: Yes | K19: 20
D20: No | E20: 0 | J20: In between | K20: 10
D21: Not applicable | E21: 0 | J21: No | K21: 0
A22: 8 | B22: Q2.5 To what extent is the data uploaded automatically? | D22: 1 | K22: 40
D23: 90-99% | K23: 50
D24: 75-89% | K24: 30
D25: 50-74% | K25: 20
D26: 25-49% | K26: 10
D27: <25% | K27: 0
A28: 9 | B28: Q2.6 What is the frequency in collecting the data from the relevant public sector data holders? | D28: Daily | E28: 50 | J28: Daily | K28: 50
D29: Weekly | E29: 30 | J29: Weekly | K29: 30
D30: Monthly | E30: 15 | J30: Monthly | K30: 15
D31: Less frequently | E31: 0 | J31: Less frequently | K31: 0
D32: Not standardized | E32: 0 | J32: Not standardized | K32: 0
D33: Not applicable | E33: 0 | J33: Not applicable | K33: 0
J34: All of the above | K34: 50
A35: 10 | B35: Q2.7.1 Is there a pre-defined approach to ensure the datasets are up-to-date? | D35: Yes | E35: 20
D36: No | E36: 0
D37: Not applicable | E37: 0
A38: 11 | B38: Q2.7.2 Has your approach on how to open data changed since mid 2016? | D38: Yes | G38: 10
D39: No | G39: 0
A40: 12 | B40: Q2.8 Are there priority domains for the release of data? | D40: Yes | E40: 10
...

Sheet Questionnaire
A1: 2.1 Background information | F1: Open Data Policy | AL1: Extent of Coordination at National Level | AZ1: Licensing Norms | BG1: 2.2 | BH1: 2.3 Use of Open Data | CK1: 2.3 | CL1: Political Impact | CS1: Social Impact | CX1: Economic Impact | DG1: 2.4 | DH1: Readiness | DI1: Portal features | EL1: Portal Maturity | EM1: Overall score | EN1: Extra | FL1: Extra 2017 | FM1: Extra - voluntary
F2: 2.1 | H2: 2.2 | O2: 2.3 | T2: 2.4 | V2: 2.6 | X2: 2.7 | AC2: 2.8 | AE2: 2.10 | AG2: 2.11 | AI2: 2.13 | AL2: 2.14 | AN2: 2.15 | AP2: 2.16 | AR2: 2.17 | AW2: 2.19 | AZ2: 2.20 | BB2: 2.21 | BD2: 2.22 | BH2: 3.1 | BJ2: 3.2 | BL2: 3.3 | BS2: 3.5 | BX2: 3.7 | CL2: 4.1 | CN2: 4.2 | CP2: 4.3 | CS2: 4.4 | CU2: 4.5 | CX2: 4.6 | CZ2: 4.7 | DB2: 4.8 | DD2: 4.9 | DI2: Usability of the portal | DR2: Re-usability of the data | EE2: Spread of data across domains | EN2: Additional questions 2017 | FM2: Pilot indicators - the DCAT-AP
A3: Country | B3: Organisation | C3: Name | D3: Position | E3: E-mail | F3: Open Data Policy | G3: Score 2.1 | H3: Policies support re-use | I3: Score 2.2a | J3: Open Data policy same as PSI | K3: Score 2.2b | L3: Update policy | M3: Score Q2.2c | N3: Score 2.2 | O3: National Open Data Portal | P3: Score 2.3a | Q3: Regional Portals | R3: Score 2.3b | S3: Score 2.3 | T3: Data Holders Upload themselves | U3: Score 2.4 | V3: Frequency data collection | W3: Score 2.6 | X3: Approach ensure up-to-date | Y3: Score 2.7a | Z3: Change approach | AA3: Score 2.7b | AB3: Score 2.7 | AC3: Priority domains | AD3: Score 2.8 | AE3: Open Data used in decision making | AF3: Score 2.10 | AG3: Event held annually | AH3: Score 2.11 | AI3: National 5 year strategy | AJ3: Score 2.13 | AK3: Overall score Policy | AL3: National publication guidelines | AM3: Score 2.14 | AN3: Regional gov have own initiatives | AO3: Score 2.15 | AP3: Number of initiatives | AQ3: Score 2.16 | AR3: Regional integrated in national portal | AS3: Score 2.17a | AT3: Number integrated | AU3: Score 2.17b | AV3: Score 2.17 | AW3: Private and NGOs | AX3: Score 2.19 | AY3: Overall score Extent | AZ3: Free of charge | BA3: Score 2.20 | BB3: Open licensed | BC3: Score 2.21 | BD3: National provided licence | BE3: Score 2.22 | BF3: Overall score Norms | BG3: Overall score presence | BH3: Visitors | BI3: Score 3.1 | BJ3: Specific API | BK3: Score 3.2 | BL3: Typical profile | BM3: Score 3.3a | BN3: Percentage foreign | BO3: Score 3.3b | BP3: Percentage API | BQ3: Score 3.3c | BR3: Score 3.3 | BS3: Top five domains 1 | BT3: Top five domains 2 | BU3: Top five domains 3 | BV3: Top five domains 4 | BW3: Top five domains 5 | BX3: Least consulted 1 | BY3: Least consulted 2 | BZ3: Least consulted 3 | CA3: Least consulted 4 | CB3: Least consulted 5 | CC3: change re-use | CD3: Score Q3.12 | CE3: Support re-use | CF3: Score Q3.13 | CG3: Communication | CH3: Score Q3.14 | CI3: Start measure | CJ3: Score Q3.17 | CK3: Overall score Use | CL3: Monitor since 2015 | CM3: Score 4.1 | CN3: Impact efficiency | CO3: Score 4.2 | CP3: Impact transparency | CQ3: Score 4.3 | CR3: Overall score political | CS3: Impact sustainability | CT3: Score 4.4 | CU3: Impact inclusion groups | CV3: Score 4.5 | CW3: Overall score social | CX3: Market value assessed | CY3: Score 4.6 | CZ3: Better service assessed | DA3: Score 4.7 | DB3: Additional studies | DC3: Score 4.8 | DD3: Funding model | DE3: Score 4.9 | DF3: Overall score economic | DG3: Overall score impact | DH3: Overall score Readiness | DI3: Feedback mechanism | DJ3: Score 7.1 | DK3: Contribute | DL3: Score 7.2 | DM3: Download | DN3: Score 7.3 | DO3: Access | DP3: Score 7.4 | DQ3: Overall score usability | DR3: Bulk download | DS3: Score 7.7 | DT3: Machine readable | DU3: Score 7.8 | DV3: Search file format | DW3: Score 7.9 | DX3: Request datasets | DY3: Score 7.10 | DZ3: News section | EA3: Score 7.11 | EB3: Examples re-use | EC3: Score 7.12 | ED3: Overall score re-usability | EE3: Search domain | EF3: Score Q7.13 | EG3: Distinguish | EH3: Score Q7.14 | EI3: >5 data publishers | EJ3: Score Q7.15 | EK3: Overall score spread | EL3: Overall score Portal | EN3: Automatic upload | EO3: Score Q2.5 | EP3: Domains same as 2016 | EQ3: Score 2.9 | ER3: Who organises | ES3: Score Q2.12 | ET3: All initatives national | EU3: Score Q2.18 | EV3: CC recommended | EW3: Score Q2.23 | EX3: Re-use own gov't data | EY3: Score Q3.15 | EZ3: Re-use important | FA3: Score Q3.16 | FB3: Future re-use | FC3: Score Q3.18 | FD3: Newsletter | FE3: Score Q7.5 | FF3: Automated messages | FG3: Score Q7.6 | FH3: Updated national portal | FI3: Score Q7.16 | FJ3: Plan update national portal | FK3: Score Q7.17 | FL3: Overall score extra | FM3: Aware of it | FN3: Score Q8.1 | FO3: Plan using it | FP3: Score Q8.2 | FQ3: Already using it | FR3: Score Q8.3 | FS3: Benefits | FT3: Score Q8.4 | FU3: Barriers | FV3: Score Q8.5
G4: 20 | I4: 20 | K4: 10 | M4: 10 | N4: =SUM(M4,K4,I4) -> 40 | P4: 30 | R4: 20 | S4: =SUM(R4,P4) -> 50 | U4: 20 | W4: 50 | Y4: 20 | AA4: 10 | AB4: =SUM(AA4,Y4) -> 30 | AD4: 10 | AF4: 20 | AH4: 50 | AJ4: 30 | AK4: =SUM(AJ4,AH4,AF4,AD4,AB4,W4,U4,S4,N4,G4,EO4,EQ4,ES4) -> 400 | AM4: 20 | AO4: 10 | AQ4: 40 | AS4: 30 | AU4: 30 | AV4: 60 | AX4: 0 | AY4: =SUM(AX4,AV4,AQ4,AO4,AM4,EU4) -> 140 | BA4: 30 | BC4: 25 | BE4: 15 | BF4: =SUM(BE4,BC4,BA4,EW4) -> 80 | BG4: =AK4+AY4+BF4 -> 620 | BI4: 80 | BK4: 40 | BM4: 25 | BO4: 30 | BQ4: 20 | BR4: =SUM(BQ4,BO4,BM4) -> 75 | CD4: 20 | CF4: 20 | CH4: 10 | CJ4: 20 | CK4: =SUM(CJ4,CH4,CF4,CD4,BR4,BK4,BI4,EY4,FA4,FC4) -> 300 | CM4: 30 | CO4: 40 | CQ4: 50 | CR4: =SUM(CM4,CO4,CQ4) -> 120 | CT4: 30 | CV4: 30 | CW4: =SUM(CT4,CV4) -> 60 | CY4: 40 | DA4: 30 | DC4: 20 | DE4: 30 | DF4: =SUM(CY4,DA4,DC4,DE4) -> 120 | DG4: =CR4+CW4+DF4 -> 300 | DH4: =DG4+CK4+BG4 -> 1220 | DJ4: 20 | DL4: 20 | DN4: 10 | DP4: 10 | DQ4: =SUM($DP4,$DN4,$DL4,$DJ4,$FE4,$FG4,$FI4,$FK4) -> 90 | DS4: 20 | DU4: 60 | DW4: 20 | DY4: 20 | EA4: 10 | EC4: 10 | ED4: =SUM(EC4,EA4,DY4,DW4,DU4,DS4) -> 140 | EF4: 20 | EH4: 15 | EJ4: 15 | EK4: =SUM(EJ4,EH4,EF4) -> 50 | EL4: =EK4+ED4+DQ4 -> 280 | EM4: =SUM(EL4,DH4) -> 1500 | EO4: 50 | EQ4: 10 | ES4: 20 | EU4: 10 | EW4: 10 | EY4: 15 | FA4: 10 | FC4: 10 | FE4: 10 | FG4: 10 | FI4: 5 | FK4: 5 | FL4: =SUM(EO4,EQ4,ES4,EU4,EW4,EY4,FA4,FC4,FE4,FI4,FK4,FG4) -> 165 | FN4: 0 | FP4: 0 | FR4: 10 | FT4: 0 | FV4: 0
A5: Austria | B5: Federal Chancellery of Austria | C5: Gregor Eibl/Daniel Medimorec | D5: Open Government Data Expert | E5: gregor.eibl@bka.gv.at/ daniel.medimorec@bka.gv.at | F5: Yes | G5: =IF($F5=Scoring!$D$5,Scoring!$E$5,IF($F5=Scoring!$D$6,Scoring!$E$6,"")) -> 20 | H5: Yes | I5: =IF($H5=Scoring!$D$7,Scoring!$E$7,IF($H5=Scoring!$D$8,Scoring!$E$8,"")) -> 20 | J5: More ambitious | K5: =IF($J5=Scoring!$J$9,Scoring!$K$9,IF($J5=Scoring!$J$10,Scoring!$K$10,IF($J5=Scoring!$J$11,Scoring!$K$11,""))) -> 10 | L5: Yes | M5: =IF($L5=Scoring!$D$12,Scoring!$G$12,IF($L5=Scoring!$D$13,Scoring!$G$13,"")) -> 10 | N5: =SUM(M5,K5,I5) -> 40 | O5: Yes | P5: =IF($O5=Scoring!$D$14,Scoring!$E$14,IF($O5=Scoring!$D$15,Scoring!$E$15,"")) -> 30 | Q5: Yes | R5: =IF($Q5=Scoring!$D$16,Scoring!$E$16,IF($Q5=Scoring!$D$17,Scoring!$E$17,IF($Q5=Scoring!$D$18,Scoring!$E$18,""))) -> 20 | S5: =SUM(R5,P5) -> 50 | T5: Yes | U5: =IF($T5=Scoring!$J$19,Scoring!$K$19,IF($T5=Scoring!$J$20,Scoring!$K$20,IF($T5=Scoring!$J$21,Scoring!$K$21,""))) -> 20 | V5: Daily | W5: =IF($V5=Scoring!$J$28,Scoring!$K$28,IF($V5=Scoring!$J$29,Scoring!$K$29,IF($V5=Scoring!$J$30,Scoring!$K$30,IF($V5=Scoring!$J$31,Scoring!$K$31,IF($V5=Scoring!$J$32,Scoring!$K$32,IF($V5=Scoring!$J$33,Scoring!$K$33,IF($V5=Scoring!$J$34,Scoring!$K$34,""))))))) -> 50 | X5: No | Y5: =IF($X5=Scoring!$D$35,Scoring!$E$35,IF($X5=Scoring!$D$36,Scoring!$E$36,IF($X5=Scoring!$D$37,Scoring!$E$37,""))) -> 0 | Z5: Yes | AA5: =IF($Z5=Scoring!$D$38,Scoring!$G$38,IF($Z5=Scoring!$D$39,Scoring!$G$39,"")) -> 10 | AB5: =SUM(AA5,Y5) -> 10 | AC5: No | AD5: =IF($AC5=Scoring!$D$40,Scoring!$E$40,IF($AC5=Scoring!$D$41,Scoring!$E$41,IF($AC5=Scoring!$D$42,Scoring!$E$42,""))) -> 0 | AE5: Yes | AF5: =IF($AE5=Scoring!$D$46,Scoring!$E$46,IF($AE5=Scoring!$D$47,Scoring!$E$47,"")) -> 20 | AG5: Yes, more than 3 | AH5: =IF($AG5=Scoring!$H$48,Scoring!$I$48,IF($AG5=Scoring!$H$49,Scoring!$I$49,IF($AG5=Scoring!$H$50,Scoring!$I$50,IF($AG5=Scoring!$H$51,Scoring!$I$51,"")))) -> 50 | AI5: Yes | AJ5: =IF($AI5=Scoring!$D$57,Scoring!$E$57,IF($AI5=Scoring!$D$58,Scoring!$E$58,"")) -> 30 | AK5: =SUM(AJ5,AH5,AF5,AD5,AB5,W5,U5,S5,N5,G5,EO5,EQ5,ES5) -> 315 | AL5: Yes | AM5: =IF($AL5=Scoring!$D$63,Scoring!$E$63,IF($AL5=Scoring!$D$64,Scoring!$E$64,"")) -> 20 | AN5: Yes | AO5: =IF($AN5=Scoring!$D$65,Scoring!$E$65,IF($AN5=Scoring!$D$66,Scoring!$E$66,IF($AN5=Scoring!$D$67,Scoring!$E$67,""))) -> 10 | AP5: Many | AQ5: =IF($AP5=Scoring!$D$68,Scoring!$E$68,IF($AP5=Scoring!$D$69,Scoring!$E$69,IF($AP5=Scoring!$D$70,Scoring!$E$70,IF($AP5=Scoring!$D$71,Scoring!$E$71,"")))) -> 40 | AR5: Yes | AS5: =IF($AR5=Scoring!$D$72,Scoring!$E$72,IF($AR5=Scoring!$D$73,Scoring!$E$73,IF($AR5=Scoring!$D$74,Scoring!$E$74,""))) -> 30 | AT5: All | AU5: =IF($AT5=Scoring!$D$75,Scoring!$E$75,IF($AT5=Scoring!$D$76,Scoring!$E$76,IF($AT5=Scoring!$D$77,Scoring!$E$77,IF($AT5=Scoring!$D$78,Scoring!$E$78,"")))) -> 30 | AV5: =SUM(AS5,AU5) -> 60 | AW5: n/a | AX5: =IF($AW5=Scoring!$D$82,Scoring!$K$82,"") -> n/a | AY5: =SUM(AX5,AV5,AQ5,AO5,AM5,EU5) -> 140 | AZ5: 1 | BA5: =IF($AZ5=Scoring!$J$85,Scoring!$K$85,IF($AZ5=Scoring!$J$86,Scoring!$K$86,IF($AZ5=Scoring!$J$87,Scoring!$K$87,IF($AZ5=Scoring!$J$88,Scoring!$K$88,IF($AZ5=Scoring!$J$89,Scoring!$K$89,IF($AZ5=Scoring!$J$89,Scoring!$K$89,IF($AZ5=Scoring!$J$89,Scoring!$K$89,""))))))) -> 30 | BB5: 1 | BC5: =IF($BB5=Scoring!$J$92,Scoring!$K$92,IF($BB5=Scoring!$J$93,Scoring!$K$93,IF($BB5=Scoring!$J$94,Scoring!$K$94,IF($BB5=Scoring!$J$95,Scoring!$K$95,IF($BB5=Scoring!$J$96,Scoring!$K$96,IF($BB5=Scoring!$J$97,Scoring!$K$97,IF($BB5=Scoring!$J$99,Scoring!$K$99,""))))))) -> 25 | BD5: Yes | BE5: =IF($BD5=Scoring!$D$100,Scoring!$E$100,IF($BD5=Scoring!$D$101,Scoring!$E$101,IF($BD5=Scoring!$D$102,Scoring!$E$102,""))) -> 15 | BF5: =SUM(BE5,BC5,BA5,EW5) -> 80 | BG5: =AK5+AY5+BF5 -> 535 | BH5: >0.05% of inhabitants | BI5: =IF($BH5=Scoring!$D$108,Scoring!$E$108,IF($BH5=Scoring!$D$109,Scoring!$E$109,IF($BH5=Scoring!$D$110,Scoring!$E$110,IF($BH5=Scoring!$D$111,Scoring!$E$111,IF($BH5=Scoring!$D$112,Scoring!$E$112,IF($BH5=Scoring!$D$113,Scoring!$E$113,IF($BH5=Scoring!$D$114,Scoring!$E$114,IF($BH5=Scoring!$D$115,Scoring!$E$115,IF($BH5=Scoring!$D$116,Scoring!$E$116,IF($BH5=Scoring!$D$117,Scoring!$E$117,"")))))))))) -> 80 | BJ5: Yes | BK5: =IF($BJ5=Scoring!$D$118,Scoring!$E$118,IF($BJ5=Scoring!$D$119,Scoring!$E$119,"")) -> 40 | BL5: I don't know | BM5: =IF($BL5=Scoring!$D$120,Scoring!$E$120,IF($BL5=Scoring!$D$121,Scoring!$E$121,IF($BL5=Scoring!$D$122,Scoring!$E$122,IF($BL5=Scoring!$D$123,Scoring!$E$123,IF($BL5=Scoring!$D$124,Scoring!$E$124,""))))) -> 0 | BN5: Foreign 30 - 44% | BO5: =IF($BN5=Scoring!$D$125,Scoring!$E$125,IF($BN5=Scoring!$D$126,Scoring!$E$126,IF($BN5=Scoring!$D$127,Scoring!$E$127,IF($BN5=Scoring!$D$128,Scoring!$E$128,IF($BN5=Scoring!$D$129,Scoring!$E$129,IF($BN5=Scoring!$D$130,Scoring!$E$130,IF($BN5=Scoring!$D$131,Scoring!$E$131,""))))))) -> 30 | BP5: API 71 - 85% | BQ5: =IF($BP5=Scoring!$J$133,Scoring!$K$133,IF($BP5=Scoring!$J$134,Scoring!$K$134,IF($BP5=Scoring!$J$135,Scoring!$K$135,IF($BP5=Scoring!$J$136,Scoring!$K$136,IF($BP5=Scoring!$J$137,Scoring!$K$137,IF($BP5=Scoring!$J$138,Scoring!$K$138,IF($BP5=Scoring!$J$139,Scoring!$K$139,IF($BP5=Scoring!$J$140,Scoring!$K$140,"")))))))) -> 5 | BR5: =SUM(BQ5,BO5,BM5) -> 35 | BS5: ? | CC5: No | CD5: =IF($CC5=Scoring!$D$151,Scoring!$G$151,IF($CC5=Scoring!$D$152,Scoring!$G$152,"")) -> 0 | CE5: Yes | CF5: =IF($CE5=Scoring!$D$153,Scoring!$K$153,IF($CE5=Scoring!$D$154,Scoring!$K$154,"")) -> 20 | CG5: Yes | CH5: =IF($CG5=Scoring!$D$155,Scoring!$G$155,IF($CG5=Scoring!$D$156,Scoring!$G$156,"")) -> 10 | CI5: Yes | CJ5: =IF($CI5=Scoring!$D$164,Scoring!$G$164,IF($CI5=Scoring!$D$165,Scoring!$G$165,"")) -> 20 | CK5: =SUM(CJ5,CH5,CF5,CD5,BR5,BK5,BI5,EY5,FA5,FC5) -> 240 | CL5: Yes | CM5: =IF($CL5=Scoring!$D$171,Scoring!$E$171,IF($CL5=Scoring!$D$172,Scoring!$E$172,"")) -> 30 | CN5: Medium | CO5: =IF($CN5=Scoring!$D$173,Scoring!$E$173,IF($CN5=Scoring!$D$174,Scoring!$E$174,IF($CN5=Scoring!$D$175,Scoring!$E$175,IF($CN5=Scoring!$D$176,Scoring!$E$176,"")))) -> 20 | CP5: Medium | CQ5: =IF($CP5=Scoring!$D$177,Scoring!$E$177,IF($CP5=Scoring!$D$178,Scoring!$E$178,IF($CP5=Scoring!$D$179,Scoring!$E$179,IF($CP5=Scoring!$D$180,Scoring!$E$180,"")))) -> 20 | CR5: =SUM(CM5,CO5,CQ5) -> 70 | CS5: Medium | CT5: =IF($CS5=Scoring!$D$183,Scoring!$E$183,IF($CS5=Scoring!$D$184,Scoring!$E$184,IF($CS5=Scoring!$D$185,Scoring!$E$185,IF($CS5=Scoring!$D$186,Scoring!$E$186,"")))) -> 15 | CU5: I don't know | CV5: =IF($CU5=Scoring!$D$183,Scoring!$E$183,IF($CU5=Scoring!$D$184,Scoring!$E$184,IF($CU5=Scoring!$D$185,Scoring!$E$185,IF($CU5=Scoring!$D$186,Scoring!$E$186,"")))) -> 0 | CW5: =SUM(CT5,CV5) -> 15 | CX5: No | CY5: =IF($CX5=Scoring!$D$193,Scoring!$E$193,IF($CX5=Scoring!$D$194,Scoring!$E$194,IF($CX5=Scoring!$D$195,Scoring!$E$195,""))) -> 0 | CZ5: I don't know | DA5: =IF($CZ5=Scoring!$D$196,Scoring!$E$196,IF($CZ5=Scoring!$D$197,Scoring!$E$197,IF($CZ5=Scoring!$D$198,Scoring!$E$198,""))) -> 0 | DB5: Yes | DC5: =IF($DB5=Scoring!$D$199,Scoring!$E$199,IF($DB5=Scoring!$D$200,Scoring!$E$200,IF($DB5=Scoring!$D$201,Scoring!$E$201,""))) -> 20 | DD5: Marginal (Zero) Cost Model | DE5: =IF($DD5=Scoring!$D$202,Scoring!$E$202,IF($DD5=Scoring!$D$203,Scoring!$E$203,IF($DD5=Scoring!$D$204,Scoring!$E$204,IF($DD5=Scoring!$D$205,Scoring!$E$205,"")))) -> 30 | DF5: =SUM(CY5,DA5,DC5,DE5) -> 50 | DG5: =CR5+CW5+DF5 -> 135 | DH5: =DG5+CK5+BG5 -> 910 | DI5: Yes | DJ5: =IF($DI5=Scoring!$D$219,Scoring!$E$219,IF($DI5=Scoring!$D$220,Scoring!$E$220,"")) -> 20 | DK5: No | DL5: =IF($DK5=Scoring!$D$221,Scoring!$E$221,IF($DK5=Scoring!$D$222,Scoring!$E$222,"")) -> 0 | DM5: Yes | DN5: =IF($DM5=Scoring!$D$223,Scoring!$E$223,IF($DM5=Scoring!$D$224,Scoring!$E$224,"")) -> 10 | DO5: Yes | DP5: =IF($DO5=Scoring!$D$225,Scoring!$E$225,IF($DO5=Scoring!$D$226,Scoring!$E$226,"")) -> 10 | DQ5: =SUM($DP5,$DN5,$DL5,$DJ5,$FE5,$FG5,$FI5,$FK5) -> 70 | DR5: Yes | DS5: =IF($DR5=Scoring!$D$237,Scoring!$E$237,IF($DR5=Scoring!$D$238,Scoring!$E$238,"")) -> 20 | DT5: ≥ 90% | DU5: =IF($DT5=Scoring!$D$240,Scoring!$E$240,IF($DT5=Scoring!$D$241,Scoring!$E$241,IF($DT5=Scoring!$D$242,Scoring!$E$242,IF($DT5=Scoring!$D$243,Scoring!$E$243,IF($DT5=Scoring!$D$244,Scoring!$E$244,IF($DT5=Scoring!$D$245,Scoring!$E$245,IF($DT5=Scoring!$D$246,Scoring!$E$246,""))))))) -> 60 | DV5: Yes | DW5: =IF($DV5=Scoring!$D$247,Scoring!$E$247,IF($DV5=Scoring!$D$248,Scoring!$E$248,"")) -> 20 | DX5: No | DY5: =IF($DX5=Scoring!$D$249,Scoring!$E$249,IF($DX5=Scoring!$D$250,Scoring!$E$250,"")) -> 0 | DZ5: Yes | EA5: =IF($DZ5=Scoring!$D$251,Scoring!$E$251,IF($DZ5=Scoring!$D$252,Scoring!$E$252,"")) -> 10 | EB5: Yes | EC5: =IF($EB5=Scoring!$D$253,Scoring!$E$253,IF($EB5=Scoring!$D$254,Scoring!$E$254,"")) -> 10 | ED5: =SUM(EC5,EA5,DY5,DW5,DU5,DS5) -> 120 | EE5: Yes | EF5: =IF($EE5=Scoring!$D$257,Scoring!$E$257,IF($EE5=Scoring!$D$258,Scoring!$E$258,"")) -> 20 | EG5: Yes | EH5: =IF($EG5=Scoring!$D$259,Scoring!$E$259,IF($EG5=Scoring!$D$260,Scoring!$E$260,"")) -> 15 | EI5: Yes | EJ5: =IF($EI5=Scoring!$D$261,Scoring!$E$261,IF($EI5=Scoring!$D$262,Scoring!$E$262,"")) -> 15 | EK5: =SUM(EJ5,EH5,EF5) -> 50 | EL5: =EK5+ED5+DQ5 -> 240 | EM5: =SUM(EL5,DH5) -> 1150 | EN5: 25-49% | EO5: =IF($EN5=Scoring!$D$22,Scoring!$K$22,IF($EN5=Scoring!$D$23,Scoring!$K$23,IF($EN5=Scoring!$D$24,Scoring!$K$24,IF($EN5=Scoring!$D$25,Scoring!$K$25,IF($EN5=Scoring!$D$26,Scoring!$K$26,IF($EN5=Scoring!$D$27,Scoring!$K$27,"")))))) -> 10 | EP5: Not applicable | EQ5: =IF($EP5=Scoring!$D$43,Scoring!$K$43,IF($EP5=Scoring!$D$44,Scoring!$K$44,IF($EP5=Scoring!$D$45,Scoring!$K$45,""))) -> 0 | ER5: Local administrations | ES5: =IF($ER5=Scoring!$D$52,Scoring!$K$52,IF($ER5=Scoring!$D$53,Scoring!$K$53,IF($ER5=Scoring!$D$54,Scoring!$K$54,IF($ER5=Scoring!$D$55,Scoring!$K$55,IF($ER5=Scoring!$D$56,Scoring!$K$56,""))))) -> 15 | ET5: Yes | EU5: =IF($ET5=Scoring!$D$80,Scoring!$K$80,IF($ET5=Scoring!$D$81,Scoring!$K$81,"")) -> 10 | EV5: Yes | EW5: =IF($EV5=Scoring!$D$103,Scoring!$K$103,IF($EV5=Scoring!$D$104,Scoring!$K$104,IF($EV5=Scoring!$D$105,Scoring!$K$105,""))) -> 10 | EX5: Yes | EY5: =IF($EX5=Scoring!$D$157,Scoring!$K$157,IF($EX5=Scoring!$D$158,Scoring!$K$158,"")) -> 15 | EZ5: Yes, very much | FA5: =IF($EZ5=Scoring!$J$160,Scoring!$K$160,IF($EZ5=Scoring!$J$161,Scoring!$K$161,IF($EZ5=Scoring!$J$162,Scoring!$K$162,IF($EZ5=Scoring!$J$163,Scoring!$K$163,"")))) -> 10 | FB5: Yes | FC5: =IF($FB5=Scoring!$D$166,Scoring!$K$166,IF($FB5=Scoring!$D$167,Scoring!$K$167,"")) -> 10 | FD5: Yes | FE5: =IF($FD5=Scoring!$D$227,Scoring!$K$227,IF($FD5=Scoring!$D$228,Scoring!$K$228,"")) -> 10 | FF5: Yes | FG5: =IF($FF5=Scoring!$D$229,Scoring!$K$229,IF($FF5=Scoring!$D$230,Scoring!$K$230,"")) -> 10 | FH5: Yes | FI5: =IF($FH5=Scoring!$D$231,Scoring!$K$231,IF($FH5=Scoring!$D$232,Scoring!$K$232,"")) -> 5 | FJ5: Yes | FK5: =IF($FJ5=Scoring!$D$233,Scoring!$K$233,IF($FJ5=Scoring!$D$234,Scoring!$K$234,"")) -> 5 | FL5: =SUM(EO5,EQ5,ES5,EU5,EW5,EY5,FA5,FC5,FE5,FI5,FK5) -> 100 | FM5: Yes, very well | FO5: Yes, as it is | FQ5: Yes, as it is | FR5: 10 | FS5: Answer | FU5: Answer
A6: Belgium | B6: Open data taskforce (FOD BOSA DG DT and DAV) | C6: Bart Hanssens | D6: Interoperability Expert | E6: opendata@belgium.be | F6: Yes | G6: =IF($F6=Scoring!$D$5,Scoring!$E$5,IF($F6=Scoring!$D$6,Scoring!$E$6,"")) -> 20 | H6: Yes | I6: =IF($H6=Scoring!$D$7,Scoring!$E$7,IF($H6=Scoring!$D$8,Scoring!$E$8,"")) -> 20 | J6: More ambitious | K6: =IF($J6=Scoring!$J$9,Scoring!$K$9,IF($J6=Scoring!$J$10,Scoring!$K$10,IF($J6=Scoring!$J$11,Scoring!$K$11,""))) -> 10 | L6: No | M6: =IF($L6=Scoring!$D$12,Scoring!$G$12,IF($L6=Scoring!$D$13,Scoring!$G$13,"")) -> 0 | N6: =SUM(M6,K6,I6) -> 30 | O6: Yes | P6: =IF($O6=Scoring!$D$14,Scoring!$E$14,IF($O6=Scoring!$D$15,Scoring!$E$15,"")) -> 30 | Q6: Yes | R6: =IF($Q6=Scoring!$D$16,Scoring!$E$16,IF($Q6=Scoring!$D$17,Scoring!$E$17,IF($Q6=Scoring!$D$18,Scoring!$E$18,""))) -> 20 | S6: =SUM(R6,P6) -> 50 | T6: In between | U6: =IF($T6=Scoring!$J$19,Scoring!$K$19,IF($T6=Scoring!$J$20,Scoring!$K$20,IF($T6=Scoring!$J$21,Scoring!$K$21,""))) -> 10 | V6: Weekly | W6: =IF($V6=Scoring!$J$28,Scoring!$K$28,IF($V6=Scoring!$J$29,Scoring!$K$29,IF($V6=Scoring!$J$30,Scoring!$K$30,IF($V6=Scoring!$J$31,Scoring!$K$31,IF($V6=Scoring!$J$32,Scoring!$K$32,IF($V6=Scoring!$J$33,Scoring!$K$33,IF($V6=Scoring!$J$34,Scoring!$K$34,""))))))) -> 30 | X6: Yes | Y6: =IF($X6=Scoring!$D$35,Scoring!$E$35,IF($X6=Scoring!$D$36,Scoring!$E$36,IF($X6=Scoring!$D$37,Scoring!$E$37,""))) -> 20 | Z6: No | AA6: =IF($Z6=Scoring!$D$38,Scoring!$G$38,IF($Z6=Scoring!$D$39,Scoring!$G$39,"")) -> 0 | AB6: =SUM(AA6,Y6) -> 20 | AC6: Yes | AD6: =IF($AC6=Scoring!$D$40,Scoring!$E$40,IF($AC6=Scoring!$D$41,Scoring!$E$41,IF($AC6=Scoring!$D$42,Scoring!$E$42,""))) -> 10 | AE6: No | AF6: =IF($AE6=Scoring!$D$46,Scoring!$E$46,IF($AE6=Scoring!$D$47,Scoring!$E$47,"")) -> 0 | AG6: Yes, between 3 - 5 | AH6: =IF($AG6=Scoring!$F$48,Scoring!$G$48,IF($AG6=Scoring!$F$49,Scoring!$G$49,IF($AG6=Scoring!$F$50,Scoring!$G$50,IF($AG6=Scoring!$F$51,Scoring!$G$51,"")))) -> 30 | AI6: Yes | AJ6: =IF($AI6=Scoring!$D$57,Scoring!$E$57,IF($AI6=Scoring!$D$58,Scoring!$E$58,"")) -> 30 | AK6: =SUM(AJ6,AH6,AF6,AD6,AB6,W6,U6,S6,N6,G6,EO6,EQ6,ES6) -> 295 | AL6: No | AM6: =IF($AL6=Scoring!$D$63,Scoring!$E$63,IF($AL6=Scoring!$D$64,Scoring!$E$64,"")) -> 0 | AN6: Yes | AO6: =IF($AN6=Scoring!$D$65,Scoring!$E$65,IF($AN6=Scoring!$D$66,Scoring!$E$66,IF($AN6=Scoring!$D$67,Scoring!$E$67,""))) -> 10 | AP6: Many | AQ6: =IF($AP6=Scoring!$D$68,Scoring!$E$68,IF($AP6=Scoring!$D$69,Scoring!$E$69,IF($AP6=Scoring!$D$70,Scoring!$E$70,IF($AP6=Scoring!$D$71,Scoring!$E$71,"")))) -> 40 | AR6: Yes | AS6: =IF($AR6=Scoring!$D$72,Scoring!$E$72,IF($AR6=Scoring!$D$73,Scoring!$E$73,IF($AR6=Scoring!$D$74,Scoring!$E$74,""))) -> 30 | AT6: All | AU6: =IF($AT6=Scoring!$D$75,Scoring!$E$75,IF($AT6=Scoring!$D$76,Scoring!$E$76,IF($AT6=Scoring!$D$77,Scoring!$E$77,IF($AT6=Scoring!$D$78,Scoring!$E$78,"")))) -> 30 | AV6: =SUM(AS6,AU6) -> 60 | AW6: n/a | AX6: =IF($AW6=Scoring!$D$82,Scoring!$K$82,"") -> n/a | AY6: =SUM(AX6,AV6,AQ6,AO6,AM6,EU6) -> 120 | AZ6: 90-99% | BA6: =IF($AZ6=Scoring!$J$85,Scoring!$K$85,IF($AZ6=Scoring!$J$86,Scoring!$K$86,IF($AZ6=Scoring!$J$87,Scoring!$K$87,IF($AZ6=Scoring!$J$88,Scoring!$K$88,IF($AZ6=Scoring!$J$89,Scoring!$K$89,IF($AZ6=Scoring!$J$89,Scoring!$K$89,IF($AZ6=Scoring!$J$89,Scoring!$K$89,""))))))) -> 25 | BB6: 75-89% | BC6: =IF($BB6=Scoring!$J$92,Scoring!$K$92,IF($BB6=Scoring!$J$93,Scoring!$K$93,IF($BB6=Scoring!$J$94,Scoring!$K$94,IF($BB6=Scoring!$J$95,Scoring!$K$95,IF($BB6=Scoring!$J$96,Scoring!$K$96,IF($BB6=Scoring!$J$97,Scoring!$K$97,IF($BB6=Scoring!$J$99,Scoring!$K$99,""))))))) -> 15 | BD6: Yes | BE6: =IF($BD6=Scoring!$D$100,Scoring!$E$100,IF($BD6=Scoring!$D$101,Scoring!$E$101,IF($BD6=Scoring!$D$102,Scoring!$E$102,""))) -> 15 | BF6: =SUM(BE6,BC6,BA6,EW6) -> 65 | BG6: =AK6+AY6+BF6 -> 480 | BH6: >0.02% of inhabitants | BI6: =IF($BH6=Scoring!$D$108,Scoring!$E$108,IF($BH6=Scoring!$D$109,Scoring!$E$109,IF($BH6=Scoring!$D$110,Scoring!$E$110,IF($BH6=Scoring!$D$111,Scoring!$E$111,IF($BH6=Scoring!$D$112,Scoring!$E$112,IF($BH6=Scoring!$D$113,Scoring!$E$113,IF($BH6=Scoring!$D$114,Scoring!$E$114,IF($BH6=Scoring!$D$115,Scoring!$E$115,IF($BH6=Scoring!$D$116,Scoring!$E$116,IF($BH6=Scoring!$D$117,Scoring!$E$117,"")))))))))) -> 20 | BJ6: Yes | BK6: =IF($BJ6=Scoring!$D$118,Scoring!$E$118,IF($BJ6=Scoring!$D$119,Scoring!$E$119,"")) -> 40 | BL6: A bit of everything | BM6: =IF($BL6=Scoring!$D$120,Scoring!$E$120,IF($BL6=Scoring!$D$121,Scoring!$E$121,IF($BL6=Scoring!$D$122,Scoring!$E$122,IF($BL6=Scoring!$D$123,Scoring!$E$123,IF($BL6=Scoring!$D$124,Scoring!$E$124,""))))) -> 25 | BN6: Foreign 30 - 44% | BO6: =IF($BN6=Scoring!$D$125,Scoring!$E$125,IF($BN6=Scoring!$D$126,Scoring!$E$126,IF($BN6=Scoring!$D$127,Scoring!$E$127,IF($BN6=Scoring!$D$128,Scoring!$E$128,IF($BN6=Scoring!$D$129,Scoring!$E$129,IF($BN6=Scoring!$D$130,Scoring!$E$130,IF($BN6=Scoring!$D$131,Scoring!$E$131,""))))))) -> 30 | BP6: API 0 - 10% | BQ6: =IF($BP6=Scoring!$J$133,Scoring!$K$133,IF($BP6=Scoring!$J$134,Scoring!$K$134,IF($BP6=Scoring!$J$135,Scoring!$K$135,IF($BP6=Scoring!$J$136,Scoring!$K$136,IF($BP6=Scoring!$J$137,Scoring!$K$137,IF($BP6=Scoring!$J$138,Scoring!$K$138,IF($BP6=Scoring!$J$139,Scoring!$K$139,IF($BP6=Scoring!$J$140,Scoring!$K$140,"")))))))) -> 10 | BR6: =SUM(BQ6,BO6,BM6) -> 65 | CC6: Yes | CD6: =IF($CC6=Scoring!$D$151,Scoring!$G$151,IF($CC6=Scoring!$D$152,Scoring!$G$152,"")) -> 20 | CE6: Yes | CF6: =IF($CE6=Scoring!$D$153,Scoring!$K$153,IF($CE6=Scoring!$D$154,Scoring!$K$154,"")) -> 20 | CG6: Yes | CH6: =IF($CG6=Scoring!$D$155,Scoring!$G$155,IF($CG6=Scoring!$D$156,Scoring!$G$156,"")) -> 10 | CI6: No | CJ6: =IF($CI6=Scoring!$D$164,Scoring!$G$164,IF($CI6=Scoring!$D$165,Scoring!$G$165,"")) -> 0 | CK6: =SUM(CJ6,CH6,CF6,CD6,BR6,BK6,BI6,EY6,FA6,FC6) -> 205 | CL6: No | CM6: =IF($CL6=Scoring!$D$171,Scoring!$E$171,IF($CL6=Scoring!$D$172,Scoring!$E$172,"")) -> 0 | CN6: Medium | CO6: =IF($CN6=Scoring!$D$173,Scoring!$E$173,IF($CN6=Scoring!$D$174,Scoring!$E$174,IF($CN6=Scoring!$D$175,Scoring!$E$175,IF($CN6=Scoring!$D$176,Scoring!$E$176,"")))) -> 20 | CP6: Medium | CQ6: =IF($CP6=Scoring!$D$177,Scoring!$E$177,IF($CP6=Scoring!$D$178,Scoring!$E$178,IF($CP6=Scoring!$D$179,Scoring!$E$179,IF($CP6=Scoring!$D$180,Scoring!$E$180,"")))) -> 20 | CR6: =SUM(CM6,CO6,CQ6) -> 40 | CS6: Medium | CT6: =IF($CS6=Scoring!$D$183,Scoring!$E$183,IF($CS6=Scoring!$D$184,Scoring!$E$184,IF($CS6=Scoring!$D$185,Scoring!$E$185,IF($CS6=Scoring!$D$186,Scoring!$E$186,"")))) -> 15 | CU6: I don't know | CV6: =IF($CU6=Scoring!$D$183,Scoring!$E$183,IF($CU6=Scoring!$D$184,Scoring!$E$184,IF($CU6=Scoring!$D$185,Scoring!$E$185,IF($CU6=Scoring!$D$186,Scoring!$E$186,"")))) -> 0 | CW6: =SUM(CT6,CV6) -> 15 | CX6: No | CY6: =IF($CX6=Scoring!$D$193,Scoring!$E$193,IF($CX6=Scoring!$D$194,Scoring!$E$194,IF($CX6=Scoring!$D$195,Scoring!$E$195,""))) -> 0 | CZ6: I don't know | DA6: =IF($CZ6=Scoring!$D$196,Scoring!$E$196,IF($CZ6=Scoring!$D$197,Scoring!$E$197,IF($CZ6=Scoring!$D$198,Scoring!$E$198,""))) -> 0 | DB6: Yes | DC6: =IF($DB6=Scoring!$D$199,Scoring!$E$199,IF($DB6=Scoring!$D$200,Scoring!$E$200,IF($DB6=Scoring!$D$201,Scoring!$E$201,""))) -> 20 | DD6: Marginal (Zero) Cost Model | DE6: =IF($DD6=Scoring!$D$202,Scoring!$E$202,IF($DD6=Scoring!$D$203,Scoring!$E$203,IF($DD6=Scoring!$D$204,Scoring!$E$204,IF($DD6=Scoring!$D$205,Scoring!$E$205,"")))) -> 30 | DF6: =SUM(CY6,DA6,DC6,DE6) -> 50 | DG6: =CR6+CW6+DF6 -> 105 | DH6: =DG6+CK6+BG6 -> 790 | DI6: Yes | DJ6: =IF($DI6=Scoring!$D$219,Scoring!$E$219,IF($DI6=Scoring!$D$220,Scoring!$E$220,"")) -> 20 | DK6: No | DL6: =IF($DK6=Scoring!$D$221,Scoring!$E$221,IF($DK6=Scoring!$D$222,Scoring!$E$222,"")) -> 0 | DM6: Yes | DN6: =IF($DM6=Scoring!$D$223,Scoring!$E$223,IF($DM6=Scoring!$D$224,Scoring!$E$224,"")) -> 10 | DO6: Yes | DP6: =IF($DO6=Scoring!$D$225,Scoring!$E$225,IF($DO6=Scoring!$D$226,Scoring!$E$226,"")) -> 10 | DQ6: =SUM($DP6,$DN6,$DL6,$DJ6,$FE6,$FG6,$FI6,$FK6) -> 50 | DR6: Yes | DS6: =IF($DR6=Scoring!$D$237,Scoring!$E$237,IF($DR6=Scoring!$D$238,Scoring!$E$238,"")) -> 20 | DT6: 70 - 89% | DU6: =IF($DT6=Scoring!$D$240,Scoring!$E$240,IF($DT6=Scoring!$D$241,Scoring!$E$241,IF($DT6=Scoring!$D$242,Scoring!$E$242,IF($DT6=Scoring!$D$243,Scoring!$E$243,IF($DT6=Scoring!$D$244,Scoring!$E$244,IF($DT6=Scoring!$D$245,Scoring!$E$245,IF($DT6=Scoring!$D$246,Scoring!$E$246,""))))))) -> 50 | DV6: Yes | DW6: =IF($DV6=Scoring!$D$247,Scoring!$E$247,IF($DV6=Scoring!$D$248,Scoring!$E$248,"")) -> 20 | DX6: Yes | DY6: =IF($DX6=Scoring!$D$249,Scoring!$E$249,IF($DX6=Scoring!$D$250,Scoring!$E$250,"")) -> 20 | DZ6: Yes | EA6: =IF($DZ6=Scoring!$D$251,Scoring!$E$251,IF($DZ6=Scoring!$D$252,Scoring!$E$252,"")) -> 10 | EB6: Yes | EC6: =IF($EB6=Scoring!$D$253,Scoring!$E$253,IF($EB6=Scoring!$D$254,Scoring!$E$254,"")) -> 10 | ED6: =SUM(EC6,EA6,DY6,DW6,DU6,DS6) -> 130 | EE6: Yes | EF6: =IF($EE6=Scoring!$D$257,Scoring!$E$257,IF($EE6=Scoring!$D$258,Scoring!$E$258,"")) -> 20 | EG6: Yes | EH6: =IF($EG6=Scoring!$D$259,Scoring!$E$259,IF($EG6=Scoring!$D$260,Scoring!$E$260,"")) -> 15 | EI6: Yes | EJ6: =IF($EI6=Scoring!$D$261,Scoring!$E$261,IF($EI6=Scoring!$D$262,Scoring!$E$262,"")) -> 15 | EK6: =SUM(EJ6,EH6,EF6) -> 50 | EL6: =EK6+ED6+DQ6 -> 230 | EM6: =SUM(EL6,DH6) -> 1020 | EN6: 1 | EO6: =IF($EN6=Scoring!$D$22,Scoring!$K$22,IF($EN6=Scoring!$D$23,Scoring!$K$23,IF($EN6=Scoring!$D$24,Scoring!$K$24,IF($EN6=Scoring!$D$25,Scoring!$K$25,IF($EN6=Scoring!$D$26,Scoring!$K$26,IF($EN6=Scoring!$D$27,Scoring!$K$27,"")))))) -> 40 | EP6: Yes | EQ6: =IF($EP6=Scoring!$D$43,Scoring!$K$43,IF($EP6=Scoring!$D$44,Scoring!$K$44,IF($EP6=Scoring!$D$45,Scoring!$K$45,""))) -> 10 | ER6: Local administrations | ES6: =IF($ER6=Scoring!$D$52,Scoring!$K$52,IF($ER6=Scoring!$D$53,Scoring!$K$53,IF($ER6=Scoring!$D$54,Scoring!$K$54,IF($ER6=Scoring!$D$55,Scoring!$K$55,IF($ER6=Scoring!$D$56,Scoring!$K$56,""))))) -> 15 | ET6: Yes | EU6: =IF($ET6=Scoring!$D$80,Scoring!$K$80,IF($ET6=Scoring!$D$81,Scoring!$K$81,"")) -> 10 | EV6: Yes | EW6: =IF($EV6=Scoring!$D$103,Scoring!$K$103,IF($EV6=Scoring!$D$104,Scoring!$K$104,IF($EV6=Scoring!$D$105,Scoring!$K$105,""))) -> 10 | EX6: Yes | EY6: =IF($EX6=Scoring!$D$157,Scoring!$K$157,IF($EX6=Scoring!$D$158,Scoring!$K$158,"")) -> 15 | EZ6: Yes, somewhat | FA6: =IF($EZ6=Scoring!$J$160,Scoring!$K$160,IF($EZ6=Scoring!$J$161,Scoring!$K$161,IF($EZ6=Scoring!$J$162,Scoring!$K$162,IF($EZ6=Scoring!$J$163,Scoring!$K$163,"")))) -> 5 | FB6: Yes | FC6: =IF($FB6=Scoring!$D$166,Scoring!$K$166,IF($FB6=Scoring!$D$167,Scoring!$K$167,"")) -> 10 | FD6: No | FE6: =IF($FD6=Scoring!$D$227,Scoring!$K$227,IF($FD6=Scoring!$D$228,Scoring!$K$228,"")) -> 0 | FF6: No | FG6: =IF($FF6=Scoring!$D$229,Scoring!$K$229,IF($FF6=Scoring!$D$230,Scoring!$K$230,"")) -> 0 | FH6: Yes | FI6: =IF($FH6=Scoring!$D$231,Scoring!$K$231,IF($FH6=Scoring!$D$232,Scoring!$K$232,"")) -> 5 | FJ6: Yes | FK6: =IF($FJ6=Scoring!$D$233,Scoring!$K$233,IF($FJ6=Scoring!$D$234,Scoring!$K$234,"")) -> 5 | FL6: =SUM(EO6,EQ6,ES6,EU6,EW6,EY6,FA6,FC6,FE6,FI6,FK6) -> 125 | FM6: Yes, very well | FO6: Yes, as it is | FQ6: Yes, as it is | FR6: 10 | FS6: Answer | FU6: Answer
A7: Bulgaria | B7: State e-Government Agency (SEGA) | C7: Alexander Yolovski | D7: Deputy Chairperson of SEGA | E7: ayolovski@e-gov.bg | F7: Yes | G7: =IF($F7=Scoring!$D$5,Scoring!$E$5,IF($F7=Scoring!$D$6,Scoring!$E$6,"")) -> 20 | H7: Yes | I7: =IF($H7=Scoring!$D$7,Scoring!$E$7,IF($H7=Scoring!$D$8,Scoring!$E$8,"")) -> 20 | J7: More ambitious | K7: =IF($J7=Scoring!$J$9,Scoring!$K$9,IF($J7=Scoring!$J$10,Scoring!$K$10,IF($J7=Scoring!$J$11,Scoring!$K$11,""))) -> 10 | L7: Yes | M7: =IF($L7=Scoring!$D$12,Scoring!$G$12,IF($L7=Scoring!$D$13,Scoring!$G$13,"")) -> 10 | N7: =SUM(M7,K7,I7) -> 40 | O7: Yes | P7: =IF($O7=Scoring!$D$14,Scoring!$E$14,IF($O7=Scoring!$D$15,Scoring!$E$15,"")) -> 30 | Q7: Yes | R7: =IF($Q7=Scoring!$D$16,Scoring!$E$16,IF($Q7=Scoring!$D$17,Scoring!$E$17,IF($Q7=Scoring!$D$18,Scoring!$E$18,""))) -> 20 | S7: =SUM(R7,P7) -> 50 | T7: Yes | U7: =IF($T7=Scoring!$J$19,Scoring!$K$19,IF($T7=Scoring!$J$20,Scoring!$K$20,IF($T7=Scoring!$J$21,Scoring!$K$21,""))) -> 20 | V7: All of the above | W7: =IF($V7=Scoring!$J$28,Scoring!$K$28,IF($V7=Scoring!$J$29,Scoring!$K$29,IF($V7=Scoring!$J$30,Scoring!$K$30,IF($V7=Scoring!$J$31,Scoring!$K$31,IF($V7=Scoring!$J$32,Scoring!$K$32,IF($V7=Scoring!$J$33,Scoring!$K$33,IF($V7=Scoring!$J$34,Scoring!$K$34,""))))))) -> 50 | X7: Yes | Y7: =IF($X7=Scoring!$D$35,Scoring!$E$35,IF($X7=Scoring!$D$36,Scoring!$E$36,IF($X7=Scoring!$D$37,Scoring!$E$37,""))) -> 20 | Z7: Yes | AA7: =IF($Z7=Scoring!$D$38,Scoring!$G$38,IF($Z7=Scoring!$D$39,Scoring!$G$39,"")) -> 10 | AB7: =SUM(AA7,Y7) -> 30 | AC7: Yes | AD7: =IF($AC7=Scoring!$D$40,Scoring!$E$40,IF($AC7=Scoring!$D$41,Scoring!$E$41,IF($AC7=Scoring!$D$42,Scoring!$E$42,""))) -> 10 | AE7: Yes | AF7: =IF($AE7=Scoring!$D$46,Scoring!$E$46,IF($AE7=Scoring!$D$47,Scoring!$E$47,"")) -> 20 | AG7: Yes, more than 3 | AH7: =IF($AG7=Scoring!$H$48,Scoring!$I$48,IF($AG7=Scoring!$H$49,Scoring!$I$49,IF($AG7=Scoring!$H$50,Scoring!$I$50,IF($AG7=Scoring!$H$51,Scoring!$I$51,"")))) -> 50 | AI7: Yes | AJ7: =IF($AI7=Scoring!$D$57,Scoring!$E$57,IF($AI7=Scoring!$D$58,Scoring!$E$58,"")) -> 30 | AK7: =SUM(AJ7,AH7,AF7,AD7,AB7,W7,U7,S7,N7,G7,EO7,EQ7,ES7) -> 360 | AL7: Yes | AM7: =IF($AL7=Scoring!$D$63,Scoring!$E$63,IF($AL7=Scoring!$D$64,Scoring!$E$64,"")) -> 20 | AN7: Yes | AO7: 10 | AP7: Many | AQ7: =IF($AP7=Scoring!$D$68,Scoring!$E$68,IF($AP7=Scoring!$D$69,Scoring!$E$69,IF($AP7=Scoring!$D$70,Scoring!$E$70,IF($AP7=Scoring!$D$71,Scoring!$E$71,"")))) -> 40 | AR7: Not applicable | AS7: =IF($AR7=Scoring!$D$72,Scoring!$E$72,IF($AR7=Scoring!$D$73,Scoring!$E$73,IF($AR7=Scoring!$D$74,Scoring!$E$74,""))) -> 30 | AT7: Not applicable | AU7: =IF($AT7=Scoring!$D$75,Scoring!$E$75,IF($AT7=Scoring!$D$76,Scoring!$E$76,IF($AT7=Scoring!$D$77,Scoring!$E$77,IF($AT7=Scoring!$D$78,Scoring!$E$78,IF($AT7=Scoring!$D$79,Scoring!$E$79,""))))) -> 30 | AV7: =SUM(AS7,AU7) -> 60 | AW7: n/a | AX7: =IF($AW7=Scoring!$D$82,Scoring!$K$82,"") -> n/a | AY7: =SUM(AX7,AV7,AQ7,AO7,AM7,EU7) -> 140 | AZ7: 1 | BA7: =IF($AZ7=Scoring!$J$85,Scoring!$K$85,IF($AZ7=Scoring!$J$86,Scoring!$K$86,IF($AZ7=Scoring!$J$87,Scoring!$K$87,IF($AZ7=Scoring!$J$88,Scoring!$K$88,IF($AZ7=Scoring!$J$89,Scoring!$K$89,IF($AZ7=Scoring!$J$89,Scoring!$K$89,IF($AZ7=Scoring!$J$89,Scoring!$K$89,""))))))) -> 30 | BB7: 75-89% | BC7: =IF($BB7=Scoring!$J$92,Scoring!$K$92,IF($BB7=Scoring!$J$93,Scoring!$K$93,IF($BB7=Scoring!$J$94,Scoring!$K$94,IF($BB7=Scoring!$J$95,Scoring!$K$95,IF($BB7=Scoring!$J$96,Scoring!$K$96,IF($BB7=Scoring!$J$97,Scoring!$K$97,IF($BB7=Scoring!$J$99,Scoring!$K$99,""))))))) -> 15 | BD7: Yes | BE7: =IF($BD7=Scoring!$D$100,Scoring!$E$100,IF($BD7=Scoring!$D$101,Scoring!$E$101,IF($BD7=Scoring!$D$102,Scoring!$E$102,""))) -> 15 | BF7: =SUM(BE7,BC7,BA7,EW7) -> 70 | BG7: =AK7+AY7+BF7 -> 570 | BH7: >0.04% of inhabitants | BI7: =IF($BH7=Scoring!$D$108,Scoring!$E$108,IF($BH7=Scoring!$D$109,Scoring!$E$109,IF($BH7=Scoring!$D$110,Scoring!$E$110,IF($BH7=Scoring!$D$111,Scoring!$E$111,IF($BH7=Scoring!$D$112,Scoring!$E$112,IF($BH7=Scoring!$D$113,Scoring!$E$113,IF($BH7=Scoring!$D$114,Scoring!$E$114,IF($BH7=Scoring!$D$115,Scoring!$E$115,IF($BH7=Scoring!$D$116,Scoring!$E$116,IF($BH7=Scoring!$D$117,Scoring!$E$117,"")))))))))) -> 40 | BJ7: Yes | BK7: =IF($BJ7=Scoring!$D$118,Scoring!$E$118,IF($BJ7=Scoring!$D$119,Scoring!$E$119,"")) -> 40 | BL7: Mostly public sector | BM7: =IF($BL7=Scoring!$D$120,Scoring!$E$120,IF($BL7=Scoring!$D$121,Scoring!$E$121,IF($BL7=Scoring!$D$122,Scoring!$E$122,IF($BL7=Scoring!$D$123,Scoring!$E$123,IF($BL7=Scoring!$D$124,Scoring!$E$124,""))))) -> 10 | BN7: Foreign 5 - 14% | BO7: =IF($BN7=Scoring!$D$125,Scoring!$E$125,IF($BN7=Scoring!$D$126,Scoring!$E$126,IF($BN7=Scoring!$D$127,Scoring!$E$127,IF($BN7=Scoring!$D$128,Scoring!$E$128,IF($BN7=Scoring!$D$129,Scoring!$E$129,IF($BN7=Scoring!$D$130,Scoring!$E$130,IF($BN7=Scoring!$D$131,Scoring!$E$131,""))))))) -> 10 | BP7: API 11 - 25% | BQ7: =IF($BP7=Scoring!$J$133,Scoring!$K$133,IF($BP7=Scoring!$J$134,Scoring!$K$134,IF($BP7=Scoring!$J$135,Scoring!$K$135,IF($BP7=Scoring!$J$136,Scoring!$K$136,IF($BP7=Scoring!$J$137,Scoring!$K$137,IF($BP7=Scoring!$J$138,Scoring!$K$138,IF($BP7=Scoring!$J$139,Scoring!$K$139,IF($BP7=Scoring!$J$140,Scoring!$K$140,"")))))))) -> 15 | BR7: =SUM(BQ7,BO7,BM7) -> 35 | BS7: Finance and contracts | BT7: Government accountability and democracy | BU7: Social mobility and welfare | BV7: Crime and Justice | BW7: Education | BX7: Science and research | BY7: Global development | BZ7: Earth observation | CA7: Health | CB7: Transport and infrastructure | CC7: Yes | CD7: =IF($CC7=Scoring!$D$151,Scoring!$G$151,IF($CC7=Scoring!$D$152,Scoring!$G$152,"")) -> 20 | CE7: Yes | CF7: =IF($CE7=Scoring!$D$153,Scoring!$K$153,IF($CE7=Scoring!$D$154,Scoring!$K$154,"")) -> 20 | CG7: Yes | CH7: =IF($CG7=Scoring!$D$155,Scoring!$G$155,IF($CG7=Scoring!$D$156,Scoring!$G$156,"")) -> 10 | CI7: Yes | CJ7: =IF($CI7=Scoring!$D$164,Scoring!$G$164,IF($CI7=Scoring!$D$165,Scoring!$G$165,"")) -> 20 | CK7: =SUM(CJ7,CH7,CF7,CD7,BR7,BK7,BI7,EY7,FA7,FC7) -> 220 | CL7: No | CM7: =IF($CL7=Scoring!$D$171,Scoring!$E$171,IF($CL7=Scoring!$D$172,Scoring!$E$172,"")) -> 0 | CN7: Medium | CO7: =IF($CN7=Scoring!$D$173,Scoring!$E$173,IF($CN7=Scoring!$D$174,Scoring!$E$174,IF($CN7=Scoring!$D$175,Scoring!$E$175,IF($CN7=Scoring!$D$176,Scoring!$E$176,"")))) -> 20 | CP7: Medium | CQ7: =IF($CP7=Scoring!$D$177,Scoring!$E$177,IF($CP7=Scoring!$D$178,Scoring!$E$178,IF($CP7=Scoring!$D$179,Scoring!$E$179,IF($CP7=Scoring!$D$180,Scoring!$E$180,"")))) -> 20 | CR7: =SUM(CM7,CO7,CQ7) -> 40 | CS7: Medium | CT7: =IF($CS7=Scoring!$D$183,Scoring!$E$183,IF($CS7=Scoring!$D$184,Scoring!$E$184,IF($CS7=Scoring!$D$185,Scoring!$E$185,IF($CS7=Scoring!$D$186,Scoring!$E$186,"")))) -> 15 | CU7: Medium | CV7: =IF($CU7=Scoring!$D$183,Scoring!$E$183,IF($CU7=Scoring!$D$184,Scoring!$E$184,IF($CU7=Scoring!$D$185,Scoring!$E$185,IF($CU7=Scoring!$D$186,Scoring!$E$186,"")))) -> 15 | CW7: =SUM(CT7,CV7) -> 30 | CX7: No | CY7: =IF($CX7=Scoring!$D$193,Scoring!$E$193,IF($CX7=Scoring!$D$194,Scoring!$E$194,IF($CX7=Scoring!$D$195,Scoring!$E$195,""))) -> 0 | CZ7: Yes | DA7: =IF($CZ7=Scoring!$D$196,Scoring!$E$196,IF($CZ7=Scoring!$D$197,Scoring!$E$197,IF($CZ7=Scoring!$D$198,Scoring!$E$198,""))) -> 30 | DB7: No | DC7: =IF($DB7=Scoring!$D$199,Scoring!$E$199,IF($DB7=Scoring!$D$200,Scoring!$E$200,IF($DB7=Scoring!$D$201,Scoring!$E$201,""))) -> 0 | DD7: Marginal (Zero) Cost Model | DE7: =IF($DD7=Scoring!$D$202,Scoring!$E$202,IF($DD7=Scoring!$D$203,Scoring!$E$203,IF($DD7=Scoring!$D$204,Scoring!$E$204,IF($DD7=Scoring!$D$205,Scoring!$E$205,"")))) -> 30 | DF7: =SUM(CY7,DA7,DC7,DE7) -> 60 | DG7: =CR7+CW7+DF7 -> 130 | DH7: =DG7+CK7+BG7 -> 920 | DI7: Yes | DJ7: =IF($DI7=Scoring!$D$219,Scoring!$E$219,IF($DI7=Scoring!$D$220,Scoring!$E$220,"")) -> 20 | DK7: Yes | DL7: =IF($DK7=Scoring!$D$221,Scoring!$E$221,IF($DK7=Scoring!$D$222,Scoring!$E$222,"")) -> 20 | DM7: Yes | DN7: =IF($DM7=Scoring!$D$223,Scoring!$E$223,IF($DM7=Scoring!$D$224,Scoring!$E$224,"")) -> 10 | DO7: Yes | DP7: =IF($DO7=Scoring!$D$225,Scoring!$E$225,IF($DO7=Scoring!$D$226,Scoring!$E$226,"")) -> 10 | DQ7: =SUM($DP7,$DN7,$DL7,$DJ7,$FE7,$FG7,$FI7,$FK7) -> 75 | DR7: No | DS7: =IF($DR7=Scoring!$D$237,Scoring!$E$237,IF($DR7=Scoring!$D$238,Scoring!$E$238,"")) -> 0 | DT7: 40 - 49% | DU7: =IF($DT7=Scoring!$D$240,Scoring!$E$240,IF($DT7=Scoring!$D$241,Scoring!$E$241,IF($DT7=Scoring!$D$242,Scoring!$E$242,IF($DT7=Scoring!$D$243,Scoring!$E$243,IF($DT7=Scoring!$D$244,Scoring!$E$244,IF($DT7=Scoring!$D$245,Scoring!$E$245,IF($DT7=Scoring!$D$246,Scoring!$E$246,""))))))) -> 30 | DV7: Yes | DW7: =IF($DV7=Scoring!$D$247,Scoring!$E$247,IF($DV7=Scoring!$D$248,Scoring!$E$248,"")) -> 20 | DX7: Yes | DY7: =IF($DX7=Scoring!$D$249,Scoring!$E$249,IF($DX7=Scoring!$D$250,Scoring!$E$250,"")) -> 20 | DZ7: Yes | EA7: =IF($DZ7=Scoring!$D$251,Scoring!$E$251,IF($DZ7=Scoring!$D$252,Scoring!$E$252,"")) -> 10 | EB7: Yes | EC7: =IF($EB7=Scoring!$D$253,Scoring!$E$253,IF($EB7=Scoring!$D$254,Scoring!$E$254,"")) -> 10 | ED7: =SUM(EC7,EA7,DY7,DW7,DU7,DS7) -> 90 | EE7: Yes | EF7: =IF($EE7=Scoring!$D$257,Scoring!$E$257,IF($EE7=Scoring!$D$258,Scoring!$E$258,"")) -> 20 | EG7: Yes | EH7: =IF($EG7=Scoring!$D$259,Scoring!$E$259,IF($EG7=Scoring!$D$260,Scoring!$E$260,"")) -> 15 | EI7: Yes | EJ7: =IF($EI7=Scoring!$D$261,Scoring!$E$261,IF($EI7=Scoring!$D$262,Scoring!$E$262,"")) -> 15 | EK7: =SUM(EJ7,EH7,EF7) -> 50 | EL7: =EK7+ED7+DQ7 -> 215 | EM7: =SUM(EL7,DH7) -> 1135 | EN7: 25-49% | EO7: =IF($EN7=Scoring!$D$22,Scoring!$K$22,IF($EN7=Scoring!$D$23,Scoring!$K$23,IF($EN7=Scoring!$D$24,Scoring!$K$24,IF($EN7=Scoring!$D$25,Scoring!$K$25,IF($EN7=Scoring!$D$26,Scoring!$K$26,IF($EN7=Scoring!$D$27,Scoring!$K$27,"")))))) -> 10 | EP7: Yes | EQ7: =IF($EP7=Scoring!$D$43,Scoring!$K$43,IF($EP7=Scoring!$D$44,Scoring!$K$44,IF($EP7=Scoring!$D$45,Scoring!$K$45,""))) -> 10 | ER7: National public administrations | ES7: =IF($ER7=Scoring!$D$52,Scoring!$K$52,IF($ER7=Scoring!$D$53,Scoring!$K$53,IF($ER7=Scoring!$D$54,Scoring!$K$54,IF($ER7=Scoring!$D$55,Scoring!$K$55,IF($ER7=Scoring!$D$56,Scoring!$K$56,""))))) -> 20 | ET7: Yes | EU7: =IF($ET7=Scoring!$D$80,Scoring!$K$80,IF($ET7=Scoring!$D$81,Scoring!$K$81,"")) -> 10 | EV7: Yes | EW7: =IF($EV7=Scoring!$D$103,Scoring!$K$103,IF($EV7=Scoring!$D$104,Scoring!$K$104,IF($EV7=Scoring!$D$105,Scoring!$K$105,""))) -> 10 | EX7: Yes | EY7: =IF($EX7=Scoring!$D$157,Scoring!$K$157,IF($EX7=Scoring!$D$158,Scoring!$K$158,"")) -> 15 | EZ7: Yes, very much | FA7: =IF($EZ7=Scoring!$J$160,Scoring!$K$160,IF($EZ7=Scoring!$J$161,Scoring!$K$161,IF($EZ7=Scoring!$J$162,Scoring!$K$162,IF($EZ7=Scoring!$J$163,Scoring!$K$163,"")))) -> 10 | FB7: Yes | FC7: =IF($FB7=Scoring!$D$166,Scoring!$K$166,IF($FB7=Scoring!$D$167,Scoring!$K$167,"")) -> 10 | FD7: Yes | FE7: =IF($FD7=Scoring!$D$227,Scoring!$K$227,IF($FD7=Scoring!$D$228,Scoring!$K$228,"")) -> 10 | FF7: No | FG7: =IF($FF7=Scoring!$D$229,Scoring!$K$229,IF($FF7=Scoring!$D$230,Scoring!$K$230,"")) -> 0 | FH7: No | FI7: =IF($FH7=Scoring!$D$231,Scoring!$K$231,IF($FH7=Scoring!$D$232,Scoring!$K$232,"")) -> 0 | FJ7: Yes | FK7: =IF($FJ7=Scoring!$D$233,Scoring!$K$233,IF($FJ7=Scoring!$D$234,Scoring!$K$234,"")) -> 5 | FL7: =SUM(EO7,EQ7,ES7,EU7,EW7,EY7,FA7,FC7,FE7,FI7,FK7) -> 110 | FM7: Yes, a little | FO7: Yes, after adaptation | FQ7: No | FR7: 0
A8: Croatia | B8: Ministry of Public Administration // Information Commissioner | C8: Zoran Luša // Anamarija Musa | D8: Senior IT Adviser // Information Commissioner | E8: zoran.lusa@uprava.hr // anamarija.musa@pristupinfo.hr | F8: No | G8: =IF($F8=Scoring!$D$5,Scoring!$E$5,IF($F8=Scoring!$D$6,Scoring!$E$6,"")) -> 0 | H8: Yes | I8: =IF($H8=Scoring!$D$7,Scoring!$E$7,IF($H8=Scoring!$D$8,Scoring!$E$8,"")) -> 20 | J8: No policy | K8: =IF($J8=Scoring!$J$9,Scoring!$K$9,IF($J8=Scoring!$J$10,Scoring!$K$10,IF($J8=Scoring!$J$11,Scoring!$K$11,""))) -> 0 | L8: No | M8: =IF($L8=Scoring!$D$12,Scoring!$G$12,IF($L8=Scoring!$D$13,Scoring!$G$13,"")) -> 0 | N8: =SUM(M8,K8,I8) -> 20 | O8: Yes | P8: =IF($O8=Scoring!$D$14,Scoring!$E$14,IF($O8=Scoring!$D$15,Scoring!$E$15,"")) -> 30 | Q8: Yes | R8: =IF($Q8=Scoring!$D$16,Scoring!$E$16,IF($Q8=Scoring!$D$17,Scoring!$E$17,IF($Q8=Scoring!$D$18,Scoring!$E$18,""))) -> 20 | S8: =SUM(R8,P8) -> 50 | T8: Yes | U8: =IF($T8=Scoring!$J$19,Scoring!$K$19,IF($T8=Scoring!$J$20,Scoring!$K$20,IF($T8=Scoring!$J$21,Scoring!$K$21,""))) -> 20 | V8: All of the above | W8: =IF($V8=Scoring!$J$28,Scoring!$K$28,IF($V8=Scoring!$J$29,Scoring!$K$29,IF($V8=Scoring!$J$30,Scoring!$K$30,IF($V8=Scoring!$J$31,Scoring!$K$31,IF($V8=Scoring!$J$32,Scoring!$K$32,IF($V8=Scoring!$J$33,Scoring!$K$33,IF($V8=Scoring!$J$34,Scoring!$K$34,""))))))) -> 50 | X8: Yes | Y8: =IF($X8=Scoring!$D$35,Scoring!$E$35,IF($X8=Scoring!$D$36,Scoring!$E$36,IF($X8=Scoring!$D$37,Scoring!$E$37,""))) -> 20 | Z8: Yes | AA8: =IF($Z8=Scoring!$D$38,Scoring!$G$38,IF($Z8=Scoring!$D$39,Scoring!$G$39,"")) -> 10 | AB8: =SUM(AA8,Y8) -> 30 | AC8: Yes | AD8: =IF($AC8=Scoring!$D$40,Scoring!$E$40,IF($AC8=Scoring!$D$41,Scoring!$E$41,IF($AC8=Scoring!$D$42,Scoring!$E$42,""))) -> 10 | AE8: No | AF8: =IF($AE8=Scoring!$D$46,Scoring!$E$46,IF($AE8=Scoring!$D$47,Scoring!$E$47,"")) -> 0 | AG8: Yes, more than 3 | AH8: =IF($AG8=Scoring!$H$48,Scoring!$I$48,IF($AG8=Scoring!$H$49,Scoring!$I$49,IF($AG8=Scoring!$H$50,Scoring!$I$50,IF($AG8=Scoring!$H$51,Scoring!$I$51,"")))) -> 50 | AI8: No | AJ8: =IF($AI8=Scoring!$D$57,Scoring!$E$57,IF($AI8=Scoring!$D$58,Scoring!$E$58,"")) -> 0 | AK8: =SUM(AJ8,AH8,AF8,AD8,AB8,W8,U8,S8,N8,G8,EO8,EQ8,ES8) -> 270 | AL8: Yes | AM8: =IF($AL8=Scoring!$D$63,Scoring!$E$63,IF($AL8=Scoring!$D$64,Scoring!$E$64,"")) -> 20 | AN8: Yes | AO8: =IF($AN8=Scoring!$D$65,Scoring!$E$65,IF($AN8=Scoring!$D$66,Scoring!$E$66,IF($AN8=Scoring!$D$67,Scoring!$E$67,""))) -> 10 | AP8: Some | AQ8: =IF($AP8=Scoring!$D$68,Scoring!$E$68,IF($AP8=Scoring!$D$69,Scoring!$E$69,IF($AP8=Scoring!$D$70,Scoring!$E$70,IF($AP8=Scoring!$D$71,Scoring!$E$71,"")))) -> 10 | AR8: Yes | AS8: =IF($AR8=Scoring!$D$72,Scoring!$E$72,IF($AR8=Scoring!$D$73,Scoring!$E$73,IF($AR8=Scoring!$D$74,Scoring!$E$74,""))) -> 30 | AT8: All | AU8: =IF($AT8=Scoring!$D$75,Scoring!$E$75,IF($AT8=Scoring!$D$76,Scoring!$E$76,IF($AT8=Scoring!$D$77,Scoring!$E$77,IF($AT8=Scoring!$D$78,Scoring!$E$78,"")))) -> 30 | AV8: =SUM(AS8,AU8) -> 60 | AW8: n/a | AX8: =IF($AW8=Scoring!$D$82,Scoring!$K$82,"") -> n/a | AY8: =SUM(AX8,AV8,AQ8,AO8,AM8,EU8) -> 110 | AZ8: 1 | BA8: =IF($AZ8=Scoring!$J$85,Scoring!$K$85,IF($AZ8=Scoring!$J$86,Scoring!$K$86,IF($AZ8=Scoring!$J$87,Scoring!$K$87,IF($AZ8=Scoring!$J$88,Scoring!$K$88,IF($AZ8=Scoring!$J$89,Scoring!$K$89,IF($AZ8=Scoring!$J$89,Scoring!$K$89,IF($AZ8=Scoring!$J$89,Scoring!$K$89,""))))))) -> 30 | BB8: 1 | BC8: =IF($BB8=Scoring!$J$92,Scoring!$K$92,IF($BB8=Scoring!$J$93,Scoring!$K$93,IF($BB8=Scoring!$J$94,Scoring!$K$94,IF($BB8=Scoring!$J$95,Scoring!$K$95,IF($BB8=Scoring!$J$96,Scoring!$K$96,IF($BB8=Scoring!$J$97,Scoring!$K$97,IF($BB8=Scoring!$J$99,Scoring!$K$99,""))))))) -> 25 | BD8: Yes | BE8: =IF($BD8=Scoring!$D$100,Scoring!$E$100,IF($BD8=Scoring!$D$101,Scoring!$E$101,IF($BD8=Scoring!$D$102,Scoring!$E$102,""))) -> 15 | BF8: =SUM(BE8,BC8,BA8,EW8) -> 80 | BG8: =AK8+AY8+BF8 -> 460 | BH8: >0.05% of inhabitants | BI8: =IF($BH8=Scoring!$D$108,Scoring!$E$108,IF($BH8=Scoring!$D$109,Scoring!$E$109,IF($BH8=Scoring!$D$110,Scoring!$E$110,IF($BH8=Scoring!$D$111,Scoring!$E$111,IF($BH8=Scoring!$D$112,Scoring!$E$112,IF($BH8=Scoring!$D$113,Scoring!$E$113,IF($BH8=Scoring!$D$114,Scoring!$E$114,IF($BH8=Scoring!$D$115,Scoring!$E$115,IF($BH8=Scoring!$D$116,Scoring!$E$116,IF($BH8=Scoring!$D$117,Scoring!$E$117,"")))))))))) -> 80 | BJ8: Yes | BK8: =IF($BJ8=Scoring!$D$118,Scoring!$E$118,IF($BJ8=Scoring!$D$119,Scoring!$E$119,"")) -> 40 | BL8: A bit of everything | BM8: =IF($BL8=Scoring!$D$120,Scoring!$E$120,IF($BL8=Scoring!$D$121,Scoring!$E$121,IF($BL8=Scoring!$D$122,Scoring!$E$122,IF($BL8=Scoring!$D$123,Scoring!$E$123,IF($BL8=Scoring!$D$124,Scoring!$E$124,""))))) -> 25 | BN8: Foreign 15 - 29% | BO8: =IF($BN8=Scoring!$D$125,Scoring!$E$125,IF($BN8=Scoring!$D$126,Scoring!$E$126,IF($BN8=Scoring!$D$127,Scoring!$E$127,IF($BN8=Scoring!$D$128,Scoring!$E$128,IF($BN8=Scoring!$D$129,Scoring!$E$129,IF($BN8=Scoring!$D$130,Scoring!$E$130,IF($BN8=Scoring!$D$131,Scoring!$E$131,""))))))) -> 20 | BP8: API 0 - 10% | BQ8: =IF($BP8=Scoring!$J$133,Scoring!$K$133,IF($BP8=Scoring!$J$134,Scoring!$K$134,IF($BP8=Scoring!$J$135,Scoring!$K$135,IF($BP8=Scoring!$J$136,Scoring!$K$136,IF($BP8=Scoring!$J$137,Scoring!$K$137,IF($BP8=Scoring!$J$138,Scoring!$K$138,IF($BP8=Scoring!$J$139,Scoring!$K$139,IF($BP8=Scoring!$J$140,Scoring!$K$140,"")))))))) -> 10 | BR8: =SUM(BQ8,BO8,BM8) -> 55 | BS8: Health | BT8: Global Development | BU8: Social mobility and welfare | BV8: Energy and Environment | BW8: Earth observation | BX8: Science and Research | BY8: Crime and Justice | BZ8: Education | CA8: Companies | CB8: Finance and Contracts | CC8: Yes | CD8: =IF($CC8=Scoring!$D$151,Scoring!$G$151,IF($CC8=Scoring!$D$152,Scoring!$G$152,"")) -> 20 | CE8: Yes | CF8: =IF($CE8=Scoring!$D$153,Scoring!$K$153,IF($CE8=Scoring!$D$154,Scoring!$K$154,"")) -> 20 | CG8: Yes | CH8: =IF($CG8=Scoring!$D$155,Scoring!$G$155,IF($CG8=Scoring!$D$156,Scoring!$G$156,"")) -> 10 | CI8: No | CJ8: =IF($CI8=Scoring!$D$164,Scoring!$G$164,IF($CI8=Scoring!$D$165,Scoring!$G$165,"")) -> 0 | CK8: =SUM(CJ8,CH8,CF8,CD8,BR8,BK8,BI8,EY8,FA8,FC8) -> 255 | CL8: No | CM8: =IF($CL8=Scoring!$D$171,Scoring!$E$171,IF($CL8=Scoring!$D$172,Scoring!$E$172,"")) -> 0 | CN8: High | CO8: =IF($CN8=Scoring!$D$173,Scoring!$E$173,IF($CN8=Scoring!$D$174,Scoring!$E$174,IF($CN8=Scoring!$D$175,Scoring!$E$175,IF($CN8=Scoring!$D$176,Scoring!$E$176,"")))) -> 40 | CP8: High | CQ8: =IF($CP8=Scoring!$D$177,Scoring!$E$177,IF($CP8=Scoring!$D$178,Scoring!$E$178,IF($CP8=Scoring!$D$179,Scoring!$E$179,IF($CP8=Scoring!$D$180,Scoring!$E$180,"")))) -> 50 | CR8: =SUM(CM8,CO8,CQ8) -> 90 | CS8: High | CT8: =IF($CS8=Scoring!$D$183,Scoring!$E$183,IF($CS8=Scoring!$D$184,Scoring!$E$184,IF($CS8=Scoring!$D$185,Scoring!$E$185,IF($CS8=Scoring!$D$186,Scoring!$E$186,"")))) -> 30 | CU8: High | CV8: =IF($CU8=Scoring!$D$183,Scoring!$E$183,IF($CU8=Scoring!$D$184,Scoring!$E$184,IF($CU8=Scoring!$D$185,Scoring!$E$185,IF($CU8=Scoring!$D$186,Scoring!$E$186,"")))) -> 30 | CW8: =SUM(CT8,CV8) -> 60 | CX8: No | CY8: =IF($CX8=Scoring!$D$193,Scoring!$E$193,IF($CX8=Scoring!$D$194,Scoring!$E$194,IF($CX8=Scoring!$D$195,Scoring!$E$195,""))) -> 0 | CZ8: No | DA8: =IF($CZ8=Scoring!$D$196,Scoring!$E$196,IF($CZ8=Scoring!$D$197,Scoring!$E$197,IF($CZ8=Scoring!$D$198,Scoring!$E$198,""))) -> 0 | DB8: I don't know | DC8: =IF($DB8=Scoring!$D$199,Scoring!$E$199,IF($DB8=Scoring!$D$200,Scoring!$E$200,IF($DB8=Scoring!$D$201,Scoring!$E$201,""))) -> 0 | DD8: Marginal (Zero) Cost Model | DE8: =IF($DD8=Scoring!$D$202,Scoring!$E$202,IF($DD8=Scoring!$D$203,Scoring!$E$203,IF($DD8=Scoring!$D$204,Scoring!$E$204,IF($DD8=Scoring!$D$205,Scoring!$E$205,"")))) -> 30 | DF8: =SUM(CY8,DA8,DC8,DE8) -> 30 | DG8: =CR8+CW8+DF8 -> 180 | DH8: =DG8+CK8+BG8 -> 895 | DI8: Yes | DJ8: =IF($DI8=Scoring!$D$219,Scoring!$E$219,IF($DI8=Scoring!$D$220,Scoring!$E$220,"")) -> 20 | DK8: Yes | DL8: =IF($DK8=Scoring!$D$221,Scoring!$E$221,IF($DK8=Scoring!$D$222,Scoring!$E$222,"")) -> 20 | DM8: Yes | DN8: =IF($DM8=Scoring!$D$223,Scoring!$E$223,IF($DM8=Scoring!$D$224,Scoring!$E$224,"")) -> 10 | DO8: Yes | DP8: =IF($DO8=Scoring!$D$225,Scoring!$E$225,IF($DO8=Scoring!$D$226,Scoring!$E$226,"")) -> 10 | DQ8: =SUM($DP8,$DN8,$DL8,$DJ8,$FE8,$FG8,$FI8,$FK8) -> 80 | DR8: No | DS8: =IF($DR8=Scoring!$D$237,Scoring!$E$237,IF($DR8=Scoring!$D$238,Scoring!$E$238,"")) -> 0 | DT8: ≥ 90% | DU8: =IF($DT8=Scoring!$D$240,Scoring!$E$240,IF($DT8=Scoring!$D$241,Scoring!$E$241,IF($DT8=Scoring!$D$242,Scoring!$E$242,IF($DT8=Scoring!$D$243,Scoring!$E$243,IF($DT8=Scoring!$D$244,Scoring!$E$244,IF($DT8=Scoring!$D$245,Scoring!$E$245,IF($DT8=Scoring!$D$246,Scoring!$E$246,""))))))) -> 60 | DV8: Yes | DW8: =IF($DV8=Scoring!$D$247,Scoring!$E$247,IF($DV8=Scoring!$D$248,Scoring!$E$248,"")) -> 20 | DX8: Yes | DY8: =IF($DX8=Scoring!$D$249,Scoring!$E$249,IF($DX8=Scoring!$D$250,Scoring!$E$250,"")) -> 20 | DZ8: Yes | EA8: =IF($DZ8=Scoring!$D$251,Scoring!$E$251,IF($DZ8=Scoring!$D$252,Scoring!$E$252,"")) -> 10 | EB8: Yes | EC8: =IF($EB8=Scoring!$D$253,Scoring!$E$253,IF($EB8=Scoring!$D$254,Scoring!$E$254,"")) -> 10 | ED8: =SUM(EC8,EA8,DY8,DW8,DU8,DS8) -> 120 | EE8: Yes | EF8: =IF($EE8=Scoring!$D$257,Scoring!$E$257,IF($EE8=Scoring!$D$258,Scoring!$E$258,"")) -> 20 | EG8: Yes | EH8: =IF($EG8=Scoring!$D$259,Scoring!$E$259,IF($EG8=Scoring!$D$260,Scoring!$E$260,"")) -> 15 | EI8: Yes | EJ8: =IF($EI8=Scoring!$D$261,Scoring!$E$261,IF($EI8=Scoring!$D$262,Scoring!$E$262,"")) -> 15 | EK8: =SUM(EJ8,EH8,EF8) -> 50 | EL8: =EK8+ED8+DQ8 -> 250 | EM8: =SUM(EL8,DH8) -> 1145 | EN8: 25-49% | EO8: =IF($EN8=Scoring!$D$22,Scoring!$K$22,IF($EN8=Scoring!$D$23,Scoring!$K$23,IF($EN8=Scoring!$D$24,Scoring!$K$24,IF($EN8=Scoring!$D$25,Scoring!$K$25,IF($EN8=Scoring!$D$26,Scoring!$K$26,IF($EN8=Scoring!$D$27,Scoring!$K$27,"")))))) -> 10 | EP8: Yes | EQ8: =IF($EP8=Scoring!$D$43,Scoring!$K$43,IF($EP8=Scoring!$D$44,Scoring!$K$44,IF($EP8=Scoring!$D$45,Scoring!$K$45,""))) -> 10 | ER8: National public administrations | ES8: =IF($ER8=Scoring!$D$52,Scoring!$K$52,IF($ER8=Scoring!$D$53,Scoring!$K$53,IF($ER8=Scoring!$D$54,Scoring!$K$54,IF($ER8=Scoring!$D$55,Scoring!$K$55,IF($ER8=Scoring!$D$56,Scoring!$K$56,""))))) -> 20 | ET8: Yes | EU8: =IF($ET8=Scoring!$D$80,Scoring!$K$80,IF($ET8=Scoring!$D$81,Scoring!$K$81,"")) -> 10 | EV8: Yes | EW8: =IF($EV8=Scoring!$D$103,Scoring!$K$103,IF($EV8=Scoring!$D$104,Scoring!$K$104,IF($EV8=Scoring!$D$105,Scoring!$K$105,""))) -> 10 | EX8: Yes | EY8: =IF($EX8=Scoring!$D$157,Scoring!$K$157,IF($EX8=Scoring!$D$158,Scoring!$K$158,IF($EX8=Scoring!$D$159,Scoring!$K$159,""))) -> 15 | EZ8: Yes, but it's not our current focus | FA8: =IF($EZ8=Scoring!$J$160,Scoring!$K$160,IF($EZ8=Scoring!$J$161,Scoring!$K$161,IF($EZ8=Scoring!$J$162,Scoring!$K$162,IF($EZ8=Scoring!$J$163,Scoring!$K$163,"")))) -> 5 | FB8: Yes | FC8: =IF($FB8=Scoring!$D$166,Scoring!$K$166,IF($FB8=Scoring!$D$167,Scoring!$K$167,"")) -> 10 | FD8: No | FE8: =IF($FD8=Scoring!$D$227,Scoring!$K$227,IF($FD8=Scoring!$D$228,Scoring!$K$228,"")) -> 0 | FF8: Yes | FG8: =IF($FF8=Scoring!$D$229,Scoring!$K$229,IF($FF8=Scoring!$D$230,Scoring!$K$230,"")) -> 10 | FH8: Yes | FI8: =IF($FH8=Scoring!$D$231,Scoring!$K$231,IF($FH8=Scoring!$D$232,Scoring!$K$232,"")) -> 5 | FJ8: Yes | FK8: =IF($FJ8=Scoring!$D$233,Scoring!$K$233,IF($FJ8=Scoring!$D$234,Scoring!$K$234,"")) -> 5 | FL8: =SUM(EO8,EQ8,ES8,EU8,EW8,EY8,FA8,FC8,FE8,FI8,FK8) -> 100 | FM8: Yes, very well | FO8: Yes, as it is | FQ8: No | FR8: 0 | FS8: No answer | FU8: Answer
