Workbook
Name CeldasP4: [1]P4.Robusto!$D$19:$D$53,[1]P4.Robusto!$D$57:$D$91,[1]P4.Robusto!$D$95:$D$129

Sheet 00. Info
B2: Informe de seguimiento sobre el cumplimiento de los requisitos de accesibilidad
B4: Información General
B6: Instrucciones para rellenar el documento | P6: Versión: 1.0.3
B8: Objeto El documento recoge el Informe de seguimiento sobre el cumplimiento de los requisitos de accesibilidad que cada Unidad Responsable de Accesibilidad debe realizar sobre su ámbito competencial y tener disponible anualmente antes del 1 de octubre. El informe recoge, al menos, las medidas puestas en marcha para coordinar las revisiones periódicas de accesibilidad establecidas en el artículo 17 del RD 1112/2018, con la colaboración, en su caso, de las Unidades de tecnologías de la información y comunicaciones. También se puede indicar cualquier otro tipo de información relevante relacionada con el cumplimiento de los requisitos de accesibilidad. Asimismo, se incluirán todos los informes de revisión de la accesibilidad realizados en el año al que hace referencia el informe, en el ámbito competencial de la URA (según lo previsto en el artículo 17).
B10: Estructura del documento 01. Definición del ámbito. Rellenar los datos relacionados con la Unidad Responsable de Accesibilidad así como el año al que hace referencia el informe. 02. Medidas adoptadas.Rellenar las medidas puestas en marcha para coordinar las revisiones periódicas de accesibilidad establecidas en el artículo 17 del RD 1112/2018, con la colaboración, en su caso, de las Unidades de tecnologías de la información y comunicaciones. También se puede indicar cualquier otro tipo de información relevante relacionada con el cumplimiento de los requisitos de accesibilidad. 03. Informes de revisión de accesibilidad. Detallar todos los informes de revisión de la accesibilidad realizados en el año al que hace referencia el informe, en el ámbito competencial de la URA independientemente de que se envíen o no junto a este documento (informes realizados según lo previsto en el artículo 17).

Sheet 01. Definición del ámbito
B2: Informe de seguimiento sobre el cumplimiento de los requisitos de accesibilidad | E2: * Campos obligatorios
B4: Datos de la URA
B6: Nombre de la URA*
B8: DIR3 de la URA*
B10: Ámbito competencial de la URA*
B12: DIR3 del ámbito competencial de la URA*
B14: Periodo de seguimiento
B16: Año de seguimiento*

Sheet 02. Medidas adoptadas
B2: Informe de seguimiento sobre el cumplimiento de los requisitos de accesibilidad
B4: Medidas adoptadas
B5: Detallar las medidas puestas en marcha para coordinar las revisiones periódicas de accesibilidad establecidas en el artículo 17 del RD 1112/2018, con la colaboración, en su caso, de las Unidades de tecnologías de la información y comunicaciones. Indicar cualquier otro tipo de información relevante relacionada con el cumplimiento de los requisitos de accesibilidad.
B7: Descripción de las medidas para coordinar las revisiones periódicas de accesibilidad
B19: Cualquier otro tipo de información

Sheet 03. Informes de revisión
B2: Informe de seguimiento sobre el cumplimiento de los requisitos de accesibilidad
B4: Informes de revisión de accesibilidad
B5: Detallar todos los Informes de revisión de la accesibilidad realizados en el año al que hace referencia el informe, en el ámbito competencial de la URA independientemente de que se adjunten o no a este documento (informes realizados según lo previsto en el artículo 17).
B7: Nombre del Sitio web / Aplicación móvil | C7: Tipología | D7: Fecha revisión | E7: Fichero
C8: Sitio web
C9: Aplicación móvil

Sheet Change Log
B2: Informe de seguimiento sobre el cumplimiento de los requisitos de accesibilidad
B5: Change Log
B7: Versión 1.0.3 (03/06/2021) - 03. Informe de revisión. Se amplía el número de filas a 500. Versión 1.0.2 (24/02/2021) - 01. Definición del ámbito. Se marcan todos los campos como obligatorios. Eliminadas las listas que aparecían por error en la columna “C”. - Se añade una hoja oculta para el procesamiento automático de la información. Versión 1.0.1 (15/10/2020) - 00. Info. Se actualiza el texto de la estructura del documento. - 03. Informes de revisión: -- Se actualiza el texto de la descripción de la hoja añadiendo el siguiente texto: "... independientemente de que se adjunten o no a este documento". -- Se añade información de cómo deben añadirse las fechas (formato). - Se protege la estructura y las hojas del documento para no permitir la alteración de los elementos y preservar, con ello, el procesamiento automático de los datos recogidos en el informe.

Sheet DatosBD - Oculta
A1: Pestaña 00.Info | D1: Pestaña 01. Definición de ámbito | G1: Pestaña 02. Medidas adoptadas | K1: Pestaña 03. Informes de revisión
A2: Versión | B2: ='00. Info'!P6 -> Versión: 1.0.3 | D2: Nombre de la URA* | E2: ='01. Definición del ámbito'!C6 -> 0 | G2: Descripción de las medidas para coordinar las revisiones periódicas de accesibilidad | I2: Cualquier otro tipo de información | K2: Nombre del Sitio web / Aplicación móvil | L2: Tipología | M2: Fecha revisión | N2: Fichero
D3: DIR3 de la URA* | E3: ='01. Definición del ámbito'!C8 -> 0 | G3: ='02. Medidas adoptadas'!B8:L8 -> 0 | I3: ='02. Medidas adoptadas'!B20:L20 -> 0 | K3: ='03. Informes de revisión'!B8 -> 0 | L3: ='03. Informes de revisión'!C8 -> Sitio web | M3: ='03. Informes de revisión'!D8 -> 0 | N3: ='03. Informes de revisión'!E8 -> 0
D4: Ámbito competencial de la URA* | E4: ='01. Definición del ámbito'!C10 -> 0 | G4: ='02. Medidas adoptadas'!B9:L9 -> 0 | I4: ='02. Medidas adoptadas'!B21:L21 -> 0 | K4: ='03. Informes de revisión'!B9 -> 0 | L4: ='03. Informes de revisión'!C9 -> Aplicación móvil | M4: ='03. Informes de revisión'!D9 -> 0 | N4: ='03. Informes de revisión'!E9 -> 0
D5: DIR3 del ámbito competencial de la URA* | E5: ='01. Definición del ámbito'!C12 -> 0 | G5: ='02. Medidas adoptadas'!B10:L10 -> 0 | I5: ='02. Medidas adoptadas'!B22:L22 -> 0 | K5: ='03. Informes de revisión'!B10 -> 0 | L5: ='03. Informes de revisión'!C10 -> 0 | M5: ='03. Informes de revisión'!D10 -> 0 | N5: ='03. Informes de revisión'!E10 -> 0
D6: Año de seguimiento* | E6: ='01. Definición del ámbito'!C16 -> 0 | G6: ='02. Medidas adoptadas'!B11:L11 -> 0 | I6: ='02. Medidas adoptadas'!B23:L23 -> 0 | K6: ='03. Informes de revisión'!B11 -> 0 | L6: ='03. Informes de revisión'!C11 -> 0 | M6: ='03. Informes de revisión'!D11 -> 0 | N6: ='03. Informes de revisión'!E11 -> 0
G7: ='02. Medidas adoptadas'!B12:L12 -> 0 | I7: ='02. Medidas adoptadas'!B24:L24 -> 0 | K7: ='03. Informes de revisión'!B12 -> 0 | L7: ='03. Informes de revisión'!C12 -> 0 | M7: ='03. Informes de revisión'!D12 -> 0 | N7: ='03. Informes de revisión'!E12 -> 0
G8: ='02. Medidas adoptadas'!B13:L13 -> 0 | I8: ='02. Medidas adoptadas'!B25:L25 -> 0 | K8: ='03. Informes de revisión'!B13 -> 0 | L8: ='03. Informes de revisión'!C13 -> 0 | M8: ='03. Informes de revisión'!D13 -> 0 | N8: ='03. Informes de revisión'!E13 -> 0
G9: ='02. Medidas adoptadas'!B14:L14 -> 0 | I9: ='02. Medidas adoptadas'!B26:L26 -> 0 | K9: ='03. Informes de revisión'!B14 -> 0 | L9: ='03. Informes de revisión'!C14 -> 0 | M9: ='03. Informes de revisión'!D14 -> 0 | N9: ='03. Informes de revisión'!E14 -> 0
G10: ='02. Medidas adoptadas'!B15:L15 -> 0 | I10: ='02. Medidas adoptadas'!B27:L27 -> 0 | K10: ='03. Informes de revisión'!B15 -> 0 | L10: ='03. Informes de revisión'!C15 -> 0 | M10: ='03. Informes de revisión'!D15 -> 0 | N10: ='03. Informes de revisión'!E15 -> 0
G11: ='02. Medidas adoptadas'!B16:L16 -> 0 | I11: ='02. Medidas adoptadas'!B28:L28 -> 0 | K11: ='03. Informes de revisión'!B16 -> 0 | L11: ='03. Informes de revisión'!C16 -> 0 | M11: ='03. Informes de revisión'!D16 -> 0 | N11: ='03. Informes de revisión'!E16 -> 0
G12: ='02. Medidas adoptadas'!B17:L17 -> 0 | I12: ='02. Medidas adoptadas'!B29:L29 -> 0 | K12: ='03. Informes de revisión'!B17 -> 0 | L12: ='03. Informes de revisión'!C17 -> 0 | M12: ='03. Informes de revisión'!D17 -> 0 | N12: ='03. Informes de revisión'!E17 -> 0
K13: ='03. Informes de revisión'!B18 -> 0 | L13: ='03. Informes de revisión'!C18 -> 0 | M13: ='03. Informes de revisión'!D18 -> 0 | N13: ='03. Informes de revisión'!E18 -> 0
K14: ='03. Informes de revisión'!B19 -> 0 | L14: ='03. Informes de revisión'!C19 -> 0 | M14: ='03. Informes de revisión'!D19 -> 0 | N14: ='03. Informes de revisión'!E19 -> 0
K15: ='03. Informes de revisión'!B20 -> 0 | L15: ='03. Informes de revisión'!C20 -> 0 | M15: ='03. Informes de revisión'!D20 -> 0 | N15: ='03. Informes de revisión'!E20 -> 0
K16: ='03. Informes de revisión'!B21 -> 0 | L16: ='03. Informes de revisión'!C21 -> 0 | M16: ='03. Informes de revisión'!D21 -> 0 | N16: ='03. Informes de revisión'!E21 -> 0
K17: ='03. Informes de revisión'!B22 -> 0 | L17: ='03. Informes de revisión'!C22 -> 0 | M17: ='03. Informes de revisión'!D22 -> 0 | N17: ='03. Informes de revisión'!E22 -> 0
K18: ='03. Informes de revisión'!B23 -> 0 | L18: ='03. Informes de revisión'!C23 -> 0 | M18: ='03. Informes de revisión'!D23 -> 0 | N18: ='03. Informes de revisión'!E23 -> 0
K19: ='03. Informes de revisión'!B24 -> 0 | L19: ='03. Informes de revisión'!C24 -> 0 | M19: ='03. Informes de revisión'!D24 -> 0 | N19: ='03. Informes de revisión'!E24 -> 0
K20: ='03. Informes de revisión'!B25 -> 0 | L20: ='03. Informes de revisión'!C25 -> 0 | M20: ='03. Informes de revisión'!D25 -> 0 | N20: ='03. Informes de revisión'!E25 -> 0
K21: ='03. Informes de revisión'!B26 -> 0 | L21: ='03. Informes de revisión'!C26 -> 0 | M21: ='03. Informes de revisión'!D26 -> 0 | N21: ='03. Informes de revisión'!E26 -> 0
K22: ='03. Informes de revisión'!B27 -> 0 | L22: ='03. Informes de revisión'!C27 -> 0 | M22: ='03. Informes de revisión'!D27 -> 0 | N22: ='03. Informes de revisión'!E27 -> 0
K23: ='03. Informes de revisión'!B28 -> 0 | L23: ='03. Informes de revisión'!C28 -> 0 | M23: ='03. Informes de revisión'!D28 -> 0 | N23: ='03. Informes de revisión'!E28 -> 0
K24: ='03. Informes de revisión'!B29 -> 0 | L24: ='03. Informes de revisión'!C29 -> 0 | M24: ='03. Informes de revisión'!D29 -> 0 | N24: ='03. Informes de revisión'!E29 -> 0
... K502: ='03. Informes de revisión'!B507 -> 0 | L502: ='03. Informes de revisión'!C507 -> 0 | M502: ='03. Informes de revisión'!D507 -> 0 | N502: ='03. Informes de revisión'!E507 -> 0
